BEGIN:VCALENDAR
VERSION:2.0
PRODID:-//Sole Sisters Running Club - North Bristol - ECPv6.15.20//NONSGML v1.0//EN
CALSCALE:GREGORIAN
METHOD:PUBLISH
X-WR-CALNAME:Sole Sisters Running Club - North Bristol
X-ORIGINAL-URL:https://www.solesistersrc.co.uk
X-WR-CALDESC:Events for Sole Sisters Running Club - North Bristol
REFRESH-INTERVAL;VALUE=DURATION:PT1H
X-Robots-Tag:noindex
X-PUBLISHED-TTL:PT1H
BEGIN:VTIMEZONE
TZID:UTC
BEGIN:STANDARD
TZOFFSETFROM:+0000
TZOFFSETTO:+0000
TZNAME:UTC
DTSTART:20240101T000000
END:STANDARD
END:VTIMEZONE
BEGIN:VEVENT
DTSTART;TZID=UTC:20251013T180000
DTEND;TZID=UTC:20251013T193000
DTSTAMP:20260420T095429
CREATED:20250915T153552Z
LAST-MODIFIED:20250915T153630Z
UID:1910-1760378400-1760383800@www.solesistersrc.co.uk
SUMMARY:Beginners Course Week 1 - Bailey's Court Activity Centre
DESCRIPTION:Meet in the Apple Room at 6pm with Jenny\, Jot & Rachel. \nPlease dress accordingly for the weather and we recommend a good sports bra and a pair of trainers.
URL:https://www.solesistersrc.co.uk/event/beginners-course-week-1-baileys-court-activity-centre/
LOCATION:Baileys Court\, The Pavillion\, Baileys Ct\, Bradley Stoke\, Bristol\, BS32 8BH\, United Kingdom
CATEGORIES:Beginners
ATTACH;FMTTYPE=image/png:https://www.solesistersrc.co.uk/wp-content/uploads/2025/09/Beginners-Course-Poster.png
END:VEVENT
BEGIN:VEVENT
DTSTART;TZID=UTC:20251020T180000
DTEND;TZID=UTC:20251020T203000
DTSTAMP:20260420T095429
CREATED:20250915T153746Z
LAST-MODIFIED:20250915T153746Z
UID:1913-1760983200-1760992200@www.solesistersrc.co.uk
SUMMARY:Beginners Course Week 2 - Little Stoke Community Hall
DESCRIPTION:Meet at 6pm inside the hall. \nPlease dress accordingly for the weather. We recommend a good sports bra and a pair of trainers.
URL:https://www.solesistersrc.co.uk/event/beginners-course-week-2-little-stoke-community-hall/
LOCATION:Little Stoke Park\, Little Stoke Lane\, Bristol\, BS34 6HR
CATEGORIES:Beginners
ATTACH;FMTTYPE=image/png:https://www.solesistersrc.co.uk/wp-content/uploads/2025/09/Beginners-Course-Poster.png
END:VEVENT
BEGIN:VEVENT
DTSTART;TZID=UTC:20251027T180000
DTEND;TZID=UTC:20251027T193000
DTSTAMP:20260420T095429
CREATED:20250915T153907Z
LAST-MODIFIED:20250915T153907Z
UID:1915-1761588000-1761593400@www.solesistersrc.co.uk
SUMMARY:Beginners Course Week 3 - Active Centres
DESCRIPTION:Meet in the Kipling Suite at 6pm. \nPlease dress accordingly for the weather. We recommend a good sports bra and a pair of trainers. We also encourage you to wear your best halloween leggings\, costumes\, deeley-boppers for the spooky season!
URL:https://www.solesistersrc.co.uk/event/beginners-course-week-3-active-centres/
LOCATION:Bradley Stoke Active Centre\, Bradley Stoke Leisure Centre\, Fiddlers Wood Lane\, Bradley Stoke\, Bristol\, BS32 9BS\, United Kingdom
CATEGORIES:Beginners
ATTACH;FMTTYPE=image/png:https://www.solesistersrc.co.uk/wp-content/uploads/2025/09/Beginners-Course-Poster.png
END:VEVENT
END:VCALENDAR