BEGIN:VCALENDAR
VERSION:2.0
PRODID:-//Sole Sisters Running Club - North Bristol - ECPv6.15.20//NONSGML v1.0//EN
CALSCALE:GREGORIAN
METHOD:PUBLISH
X-WR-CALNAME:Sole Sisters Running Club - North Bristol
X-ORIGINAL-URL:https://www.solesistersrc.co.uk
X-WR-CALDESC:Events for Sole Sisters Running Club - North Bristol
REFRESH-INTERVAL;VALUE=DURATION:PT1H
X-Robots-Tag:noindex
X-PUBLISHED-TTL:PT1H
BEGIN:VTIMEZONE
TZID:UTC
BEGIN:STANDARD
TZOFFSETFROM:+0000
TZOFFSETTO:+0000
TZNAME:UTC
DTSTART:20230101T000000
END:STANDARD
END:VTIMEZONE
BEGIN:VEVENT
DTSTART;TZID=UTC:20240115T181500
DTEND;TZID=UTC:20240115T203000
DTSTAMP:20260423T142746
CREATED:20231209T071228Z
LAST-MODIFIED:20231209T071228Z
UID:1397-1705342500-1705350600@www.solesistersrc.co.uk
SUMMARY:Beginners Course - Week 2
DESCRIPTION:Please see the ‘Join Us’ page for details on how to sign up
URL:https://www.solesistersrc.co.uk/event/beginners-course-week-2-5/
LOCATION:Patchway Sports & Social Club\, Coniston Rd\, Patchway\, Bristol\, BS34 5JR\, United Kingdom
CATEGORIES:Beginners,Club Night
ATTACH;FMTTYPE=image/jpeg:https://www.solesistersrc.co.uk/wp-content/uploads/2018/07/beginners_course-1.jpg
END:VEVENT
END:VCALENDAR