BEGIN:VCALENDAR
VERSION:2.0
PRODID:-//Sole Sisters Running Club - North Bristol - ECPv6.15.20//NONSGML v1.0//EN
CALSCALE:GREGORIAN
METHOD:PUBLISH
X-ORIGINAL-URL:https://www.solesistersrc.co.uk
X-WR-CALDESC:Events for Sole Sisters Running Club - North Bristol
REFRESH-INTERVAL;VALUE=DURATION:PT1H
X-Robots-Tag:noindex
X-PUBLISHED-TTL:PT1H
BEGIN:VTIMEZONE
TZID:UTC
BEGIN:STANDARD
TZOFFSETFROM:+0000
TZOFFSETTO:+0000
TZNAME:UTC
DTSTART:20240101T000000
END:STANDARD
END:VTIMEZONE
BEGIN:VEVENT
DTSTART;TZID=UTC:20250106T181500
DTEND;TZID=UTC:20250106T193000
DTSTAMP:20260422T211156
CREATED:20250113T110053Z
LAST-MODIFIED:20250113T110201Z
UID:1632-1736187300-1736191800@www.solesistersrc.co.uk
SUMMARY:Beginners Course Week 1
DESCRIPTION:Please see the ‘Join Us’ page for details on how to sign up
URL:https://www.solesistersrc.co.uk/event/beginners-course-week-1-6/
LOCATION:Baileys Court\, The Pavillion\, Baileys Ct\, Bradley Stoke\, Bristol\, BS32 8BH\, United Kingdom
CATEGORIES:Beginners,Club Night
ATTACH;FMTTYPE=image/png:https://www.solesistersrc.co.uk/wp-content/uploads/2025/01/Beginners-Instagram-Post.png
END:VEVENT
END:VCALENDAR