BEGIN:VCALENDAR
VERSION:2.0
PRODID:-//Sole Sisters Running Club - North Bristol - ECPv6.15.20//NONSGML v1.0//EN
CALSCALE:GREGORIAN
METHOD:PUBLISH
X-WR-CALNAME:Sole Sisters Running Club - North Bristol
X-ORIGINAL-URL:https://www.solesistersrc.co.uk
X-WR-CALDESC:Events for Sole Sisters Running Club - North Bristol
REFRESH-INTERVAL;VALUE=DURATION:PT1H
X-Robots-Tag:noindex
X-PUBLISHED-TTL:PT1H
BEGIN:VTIMEZONE
TZID:UTC
BEGIN:STANDARD
TZOFFSETFROM:+0000
TZOFFSETTO:+0000
TZNAME:UTC
DTSTART:20240101T000000
END:STANDARD
END:VTIMEZONE
BEGIN:VEVENT
DTSTART;TZID=UTC:20250113T181500
DTEND;TZID=UTC:20250113T193000
DTSTAMP:20260422T210956
CREATED:20250113T110436Z
LAST-MODIFIED:20250113T110436Z
UID:1637-1736792100-1736796600@www.solesistersrc.co.uk
SUMMARY:Beginners Course Week 2
DESCRIPTION:You can still join our beginners course for week 2!! It’s not too late \nPlease see the ‘Join Us’ page for details on how to sign up
URL:https://www.solesistersrc.co.uk/event/beginners-course-week-2-6/
LOCATION:Bradley Stoke Active Centre\, Bradley Stoke Leisure Centre\, Fiddlers Wood Lane\, Bradley Stoke\, Bristol\, BS32 9BS\, United Kingdom
CATEGORIES:Beginners,Club Night
ATTACH;FMTTYPE=image/png:https://www.solesistersrc.co.uk/wp-content/uploads/2025/01/Beginners-Instagram-Post.png
END:VEVENT
END:VCALENDAR