BEGIN:VCALENDAR
VERSION:2.0
PRODID:-//Sole Sisters Running Club - North Bristol - ECPv6.15.20//NONSGML v1.0//EN
CALSCALE:GREGORIAN
METHOD:PUBLISH
X-WR-CALNAME:Sole Sisters Running Club - North Bristol
X-ORIGINAL-URL:https://www.solesistersrc.co.uk
X-WR-CALDESC:Events for Sole Sisters Running Club - North Bristol
REFRESH-INTERVAL;VALUE=DURATION:PT1H
X-Robots-Tag:noindex
X-PUBLISHED-TTL:PT1H
BEGIN:VTIMEZONE
TZID:UTC
BEGIN:STANDARD
TZOFFSETFROM:+0000
TZOFFSETTO:+0000
TZNAME:UTC
DTSTART:20240101T000000
END:STANDARD
END:VTIMEZONE
BEGIN:VEVENT
DTSTART;TZID=UTC:20251103T180000
DTEND;TZID=UTC:20251103T193000
DTSTAMP:20260420T082335
CREATED:20250915T154019Z
LAST-MODIFIED:20250915T154019Z
UID:1917-1762192800-1762198200@www.solesistersrc.co.uk
SUMMARY:Beginners Course Week 4 - Filton
DESCRIPTION:Meet at 6pm inside the community centre for week 4
URL:https://www.solesistersrc.co.uk/event/beginners-course-week-4-filton/
LOCATION:Filton Community Centre\, Elm Park\, Filton\, BS34 7PS
CATEGORIES:Beginners
ATTACH;FMTTYPE=image/png:https://www.solesistersrc.co.uk/wp-content/uploads/2025/09/Beginners-Course-Poster.png
END:VEVENT
END:VCALENDAR