BEGIN:VCALENDAR
VERSION:2.0
PRODID:-//Sole Sisters Running Club - North Bristol - ECPv6.15.20//NONSGML v1.0//EN
CALSCALE:GREGORIAN
METHOD:PUBLISH
X-WR-CALNAME:Sole Sisters Running Club - North Bristol
X-ORIGINAL-URL:https://www.solesistersrc.co.uk
X-WR-CALDESC:Events for Sole Sisters Running Club - North Bristol
REFRESH-INTERVAL;VALUE=DURATION:PT1H
X-Robots-Tag:noindex
X-PUBLISHED-TTL:PT1H
BEGIN:VTIMEZONE
TZID:UTC
BEGIN:STANDARD
TZOFFSETFROM:+0000
TZOFFSETTO:+0000
TZNAME:UTC
DTSTART:20250101T000000
END:STANDARD
END:VTIMEZONE
BEGIN:VEVENT
DTSTART;TZID=UTC:20260504T180000
DTEND;TZID=UTC:20260504T193000
DTSTAMP:20260419T172857
CREATED:20260302T110819Z
LAST-MODIFIED:20260302T110819Z
UID:2019-1777917600-1777923000@www.solesistersrc.co.uk
SUMMARY:Bank Holiday - No Run
DESCRIPTION:Members can check out our Private ‘Who wants to Run’ page on Facebook for any groups that may be going out instead of club.
URL:https://www.solesistersrc.co.uk/event/bank-holiday-no-run-11/
ATTACH;FMTTYPE=image/png:https://www.solesistersrc.co.uk/wp-content/uploads/2025/01/BANK-HOLIDAY.png
END:VEVENT
BEGIN:VEVENT
DTSTART;TZID=UTC:20260511T180000
DTEND;TZID=UTC:20260511T193000
DTSTAMP:20260419T172857
CREATED:20260302T111230Z
LAST-MODIFIED:20260302T111230Z
UID:2029-1778522400-1778527800@www.solesistersrc.co.uk
SUMMARY:Sole Sisters Club Run - Brooklands Park Community Centre
DESCRIPTION:Meet at 6pm in Room 2 with the aim to run/walk from 6.15pm.\nGroups are 3 miles; 4 miles; 5/6 miles; and the walkers. \nClub nights are for registered Sole Sisters members.\nPlease contact the club for details of how to run as a guest member or how to become a member.
URL:https://www.solesistersrc.co.uk/event/sole-sisters-club-run-brooklands-park-community-centre-2/
LOCATION:Brooklands Park Community Centre\, 2 Clover Way\,\, Bristol\, BS34 8AZ\, United Kingdom
CATEGORIES:Club Night
ATTACH;FMTTYPE=image/png:https://www.solesistersrc.co.uk/wp-content/uploads/2026/03/Brooklands-Park.png
END:VEVENT
BEGIN:VEVENT
DTSTART;TZID=UTC:20260518T180000
DTEND;TZID=UTC:20260518T193000
DTSTAMP:20260419T172857
CREATED:20260302T111305Z
LAST-MODIFIED:20260302T111501Z
UID:2031-1779127200-1779132600@www.solesistersrc.co.uk
SUMMARY:Sole Sisters Club Run - Jubilee Centre
DESCRIPTION:Meet in the Cedar Room at 6pm with the aim to run/walk from 6.15pm.\nGroups are 3 miles; 4 miles; 5/6 miles; and the walkers. \nClub nights are for registered Sole Sisters members.\nPlease contact the club for details of how to run as a guest member or how to become a member.
URL:https://www.solesistersrc.co.uk/event/sole-sisters-club-run-jubilee-centre-22/
LOCATION:Jubilee Centre\, BS32 8HL
CATEGORIES:Club Night
ATTACH;FMTTYPE=image/png:https://www.solesistersrc.co.uk/wp-content/uploads/2024/07/5.png
END:VEVENT
BEGIN:VEVENT
DTSTART;TZID=UTC:20260525T180000
DTEND;TZID=UTC:20260525T193000
DTSTAMP:20260419T172857
CREATED:20260302T110849Z
LAST-MODIFIED:20260302T110849Z
UID:2021-1779732000-1779737400@www.solesistersrc.co.uk
SUMMARY:Bank Holiday - No Run
DESCRIPTION:Members can check out our Private ‘Who wants to Run’ page on Facebook for any groups that may be going out instead of club.
URL:https://www.solesistersrc.co.uk/event/bank-holiday-no-run-12/
ATTACH;FMTTYPE=image/png:https://www.solesistersrc.co.uk/wp-content/uploads/2025/01/BANK-HOLIDAY.png
END:VEVENT
BEGIN:VEVENT
DTSTART;TZID=UTC:20260601T180000
DTEND;TZID=UTC:20260601T193000
DTSTAMP:20260419T172857
CREATED:20260302T111332Z
LAST-MODIFIED:20260302T111332Z
UID:2033-1780336800-1780342200@www.solesistersrc.co.uk
SUMMARY:Sole Sisters Club Run - Bailey's Court Activity Centre
DESCRIPTION:Meet in the Apple Room at 6pm with the aim to run/walk from 6.15pm.\nGroups are 3 miles; 4 miles; 5/6 miles\, and the walkers. \nClub nights are for registered Sole Sisters members.\nPlease contact the club for details of how to run as a guest member or how to join.
URL:https://www.solesistersrc.co.uk/event/sole-sisters-club-run-baileys-court-activity-centre-9/
LOCATION:Baileys Court\, The Pavillion\, Baileys Ct\, Bradley Stoke\, Bristol\, BS32 8BH\, United Kingdom
CATEGORIES:Club Night
ATTACH;FMTTYPE=image/png:https://www.solesistersrc.co.uk/wp-content/uploads/2024/07/7.png
END:VEVENT
BEGIN:VEVENT
DTSTART;TZID=UTC:20260608T180000
DTEND;TZID=UTC:20260608T193000
DTSTAMP:20260419T172857
CREATED:20260302T111358Z
LAST-MODIFIED:20260302T111429Z
UID:2035-1780941600-1780947000@www.solesistersrc.co.uk
SUMMARY:Sole Sisters Club Run - Jubilee Centre
DESCRIPTION:Meet in the Cedar Room at 6pm with the aim to run/walk from 6.15pm.\nGroups are 3 miles; 4 miles; 5/6 miles; and the walkers. \nClub nights are for registered Sole Sisters members.\nPlease contact the club for details of how to run as a guest member or how to become a member.
URL:https://www.solesistersrc.co.uk/event/sole-sisters-club-run-jubilee-centre-23/
LOCATION:Jubilee Centre\, BS32 8HL
CATEGORIES:Club Night
ATTACH;FMTTYPE=image/png:https://www.solesistersrc.co.uk/wp-content/uploads/2024/07/5.png
END:VEVENT
BEGIN:VEVENT
DTSTART;TZID=UTC:20260615T180000
DTEND;TZID=UTC:20260615T193000
DTSTAMP:20260419T172857
CREATED:20260302T111535Z
LAST-MODIFIED:20260302T111535Z
UID:2039-1781546400-1781551800@www.solesistersrc.co.uk
SUMMARY:Sole Sisters Club Run - Whiteshill Evangelical Church\, Hambrook
DESCRIPTION:Meet at 6pm with the aim to run/walk from 6.15pm.\nGroups are 3 miles; 4 miles; 5/6 miles and the walkers. \nParking at this venue is limited to please walk\, cycle\, use public transport or lift share where possible. \nClub nights are for registered Sole Sisters members.\nPlease contact the club for details of how to run as a guest member or how to join.
URL:https://www.solesistersrc.co.uk/event/sole-sisters-club-run-whiteshill-evangelical-church-hambrook-4/
LOCATION:Whiteshill Church\, Hambrook\, Whiteshill Evangelical Church\, Bristol Road\, Hambrook\, BS16 1SD
CATEGORIES:Club Night
ATTACH;FMTTYPE=image/png:https://www.solesistersrc.co.uk/wp-content/uploads/2025/01/HAMBROOK.png
END:VEVENT
BEGIN:VEVENT
DTSTART;TZID=UTC:20260622T180000
DTEND;TZID=UTC:20260622T193000
DTSTAMP:20260419T172857
CREATED:20260302T111601Z
LAST-MODIFIED:20260302T111601Z
UID:2041-1782151200-1782156600@www.solesistersrc.co.uk
SUMMARY:Sole Sisters Club Run - Bailey's Court Activity Centre
DESCRIPTION:Meet in the Apple Room at 6pm with the aim to run/walk from 6.15pm.\nGroups are 3 miles; 4 miles; 5/6 miles\, and the walkers. \nClub nights are for registered Sole Sisters members.\nPlease contact the club for details of how to run as a guest member or how to join.
URL:https://www.solesistersrc.co.uk/event/sole-sisters-club-run-baileys-court-activity-centre-10/
LOCATION:Baileys Court\, The Pavillion\, Baileys Ct\, Bradley Stoke\, Bristol\, BS32 8BH\, United Kingdom
CATEGORIES:Club Night
ATTACH;FMTTYPE=image/png:https://www.solesistersrc.co.uk/wp-content/uploads/2024/07/7.png
END:VEVENT
BEGIN:VEVENT
DTSTART;TZID=UTC:20260629T180000
DTEND;TZID=UTC:20260629T193000
DTSTAMP:20260419T172857
CREATED:20260302T111703Z
LAST-MODIFIED:20260302T111710Z
UID:2043-1782756000-1782761400@www.solesistersrc.co.uk
SUMMARY:Sole Sisters Club Run - Mile Straight Club
DESCRIPTION:Meet at 6pm with the aim to run/walk from 6.15pm.\nGroups are 3 miles; 4 miles; 5 miles; 6 miles and the walkers. \nClub nights are for registered Sole Sisters members.\nPlease contact the club for details of how to run as a guest member or how to join the club as a member.
URL:https://www.solesistersrc.co.uk/event/sole-sisters-club-run-mile-straight-club-8/
LOCATION:Mile Straight Club\, North Bristol Park\, 12 New Road\, BS34 8QW\, United Kingdom
CATEGORIES:Club Night
ATTACH;FMTTYPE=image/png:https://www.solesistersrc.co.uk/wp-content/uploads/2024/07/MILE-STRAIGHT-CLUB.png
END:VEVENT
END:VCALENDAR