BEGIN:VCALENDAR
VERSION:2.0
PRODID:-//Sole Sisters Running Club - North Bristol - ECPv6.15.20//NONSGML v1.0//EN
CALSCALE:GREGORIAN
METHOD:PUBLISH
X-WR-CALNAME:Sole Sisters Running Club - North Bristol
X-ORIGINAL-URL:https://www.solesistersrc.co.uk
X-WR-CALDESC:Events for Sole Sisters Running Club - North Bristol
REFRESH-INTERVAL;VALUE=DURATION:PT1H
X-Robots-Tag:noindex
X-PUBLISHED-TTL:PT1H
BEGIN:VTIMEZONE
TZID:UTC
BEGIN:STANDARD
TZOFFSETFROM:+0000
TZOFFSETTO:+0000
TZNAME:UTC
DTSTART:20230101T000000
END:STANDARD
END:VTIMEZONE
BEGIN:VEVENT
DTSTART;TZID=UTC:20241028T181500
DTEND;TZID=UTC:20241028T193000
DTSTAMP:20260421T235055
CREATED:20240708T184116Z
LAST-MODIFIED:20240708T184116Z
UID:1580-1730139300-1730143800@www.solesistersrc.co.uk
SUMMARY:Sole Sisters Club Run - Bradley Stoke Active Centre\, Kipling Suite
DESCRIPTION:This is for paid up members. Please contact the club for details of how to run as a guest member.
URL:https://www.solesistersrc.co.uk/event/sole-sisters-club-run-bradley-stoke-active-centre-kipling-suite-2/
LOCATION:Bradley Stoke Active Centre\, Bradley Stoke Leisure Centre\, Fiddlers Wood Lane\, Bradley Stoke\, Bristol\, BS32 9BS\, United Kingdom
CATEGORIES:Club Night
ATTACH;FMTTYPE=image/png:https://www.solesistersrc.co.uk/wp-content/uploads/2018/07/shoe.png
END:VEVENT
BEGIN:VEVENT
DTSTART;TZID=UTC:20241021T181500
DTEND;TZID=UTC:20241021T193000
DTSTAMP:20260421T235055
CREATED:20240708T183602Z
LAST-MODIFIED:20240708T183602Z
UID:1562-1729534500-1729539000@www.solesistersrc.co.uk
SUMMARY:Sole Sisters Club Run - Patchway Sports and Social Club
DESCRIPTION:This is for paid up members. Please contact the club for details of how to run as a guest member.
URL:https://www.solesistersrc.co.uk/event/sole-sisters-club-run-patchway-sports-and-social-club-4/
LOCATION:Patchway Sports & Social Club\, Coniston Rd\, Patchway\, Bristol\, BS34 5JR\, United Kingdom
CATEGORIES:Club Night
ATTACH;FMTTYPE=image/png:https://www.solesistersrc.co.uk/wp-content/uploads/2018/07/shoe.png
END:VEVENT
BEGIN:VEVENT
DTSTART;TZID=UTC:20241014T181500
DTEND;TZID=UTC:20241014T193000
DTSTAMP:20260421T235055
CREATED:20240708T183227Z
LAST-MODIFIED:20240708T183227Z
UID:1558-1728929700-1728934200@www.solesistersrc.co.uk
SUMMARY:Sole Sisters Club Run- Little Stoke Community Hall
DESCRIPTION:This is for paid up members. Please contact the club for details of how to run as a guest member.
URL:https://www.solesistersrc.co.uk/event/sole-sisters-club-run-little-stoke-community-hall-4/
LOCATION:Little Stoke Park\, Little Stoke Lane\, Bristol\, BS34 6HR
CATEGORIES:Club Night
ATTACH;FMTTYPE=image/png:https://www.solesistersrc.co.uk/wp-content/uploads/2018/07/shoe.png
END:VEVENT
BEGIN:VEVENT
DTSTART;TZID=UTC:20241007T181500
DTEND;TZID=UTC:20241007T193000
DTSTAMP:20260421T235055
CREATED:20240708T182622Z
LAST-MODIFIED:20240708T182622Z
UID:1542-1728324900-1728329400@www.solesistersrc.co.uk
SUMMARY:Sole Sisters Club Run - Bailey's Court\, Apple Room
DESCRIPTION:This is for paid up members. Please contact the club for details of how to run as a guest member.
URL:https://www.solesistersrc.co.uk/event/sole-sisters-club-run-baileys-court-apple-room-4/
LOCATION:Baileys Court\, The Pavillion\, Baileys Ct\, Bradley Stoke\, Bristol\, BS32 8BH\, United Kingdom
CATEGORIES:Club Night
ATTACH;FMTTYPE=image/png:https://www.solesistersrc.co.uk/wp-content/uploads/2018/07/chat.png
END:VEVENT
BEGIN:VEVENT
DTSTART;TZID=UTC:20240930T181500
DTEND;TZID=UTC:20240930T193000
DTSTAMP:20260421T235055
CREATED:20240708T183825Z
LAST-MODIFIED:20240708T183825Z
UID:1572-1727720100-1727724600@www.solesistersrc.co.uk
SUMMARY:Sole Sisters Club Run- Jubilee Centre\, Cedar Room
DESCRIPTION:This is for paid up members. Please contact the club for details of how to run as a guest member.
URL:https://www.solesistersrc.co.uk/event/sole-sisters-club-run-jubilee-centre-cedar-room-3/
LOCATION:Jubilee Centre\, BS32 8HL
CATEGORIES:Club Night
ATTACH;FMTTYPE=image/png:https://www.solesistersrc.co.uk/wp-content/uploads/2018/07/shoe.png
END:VEVENT
BEGIN:VEVENT
DTSTART;TZID=UTC:20240923T181500
DTEND;TZID=UTC:20240923T193000
DTSTAMP:20260421T235055
CREATED:20240708T183741Z
LAST-MODIFIED:20240708T183741Z
UID:1570-1727115300-1727119800@www.solesistersrc.co.uk
SUMMARY:Sole Sisters Club Run - Whiteshill Church\, Hambrook
DESCRIPTION:This is for paid up members. Please contact the club for details of how to run as a guest member.
URL:https://www.solesistersrc.co.uk/event/sole-sisters-club-run-whiteshill-church-hambrook-9/
LOCATION:Whiteshill Church\, Hambrook\, Whiteshill Evangelical Church\, Bristol Road\, Hambrook\, BS16 1SD
CATEGORIES:Club Night
END:VEVENT
BEGIN:VEVENT
DTSTART;TZID=UTC:20240916T181500
DTEND;TZID=UTC:20240916T193000
DTSTAMP:20260421T235055
CREATED:20240708T183540Z
LAST-MODIFIED:20240708T183540Z
UID:1560-1726510500-1726515000@www.solesistersrc.co.uk
SUMMARY:Sole Sisters Club Run - Patchway Sports and Social Club
DESCRIPTION:This is for paid up members. Please contact the club for details of how to run as a guest member.
URL:https://www.solesistersrc.co.uk/event/sole-sisters-club-run-patchway-sports-and-social-club-3/
LOCATION:Patchway Sports & Social Club\, Coniston Rd\, Patchway\, Bristol\, BS34 5JR\, United Kingdom
CATEGORIES:Club Night
ATTACH;FMTTYPE=image/png:https://www.solesistersrc.co.uk/wp-content/uploads/2018/07/shoe.png
END:VEVENT
BEGIN:VEVENT
DTSTART;TZID=UTC:20240909T181500
DTEND;TZID=UTC:20240909T193000
DTSTAMP:20260421T235055
CREATED:20240708T183205Z
LAST-MODIFIED:20240708T183205Z
UID:1556-1725905700-1725910200@www.solesistersrc.co.uk
SUMMARY:Sole Sisters Club Run- Little Stoke Community Hall
DESCRIPTION:This is for paid up members. Please contact the club for details of how to run as a guest member.
URL:https://www.solesistersrc.co.uk/event/sole-sisters-club-run-little-stoke-community-hall-3/
LOCATION:Little Stoke Park\, Little Stoke Lane\, Bristol\, BS34 6HR
CATEGORIES:Club Night
ATTACH;FMTTYPE=image/png:https://www.solesistersrc.co.uk/wp-content/uploads/2018/07/shoe.png
END:VEVENT
BEGIN:VEVENT
DTSTART;TZID=UTC:20240902T181500
DTEND;TZID=UTC:20240902T193000
DTSTAMP:20260421T235055
CREATED:20240708T182559Z
LAST-MODIFIED:20240708T182559Z
UID:1540-1725300900-1725305400@www.solesistersrc.co.uk
SUMMARY:Sole Sisters Club Run - Bailey's Court\, Apple Room
DESCRIPTION:This is for paid up members. Please contact the club for details of how to run as a guest member.
URL:https://www.solesistersrc.co.uk/event/sole-sisters-club-run-baileys-court-apple-room-3/
LOCATION:Baileys Court\, The Pavillion\, Baileys Ct\, Bradley Stoke\, Bristol\, BS32 8BH\, United Kingdom
CATEGORIES:Club Night
ATTACH;FMTTYPE=image/png:https://www.solesistersrc.co.uk/wp-content/uploads/2018/07/chat.png
END:VEVENT
BEGIN:VEVENT
DTSTART;TZID=UTC:20240826T180000
DTEND;TZID=UTC:20240826T193000
DTSTAMP:20260421T235055
CREATED:20240708T183113Z
LAST-MODIFIED:20240708T183113Z
UID:1554-1724695200-1724700600@www.solesistersrc.co.uk
SUMMARY:Bank Holiday - No Run
DESCRIPTION:
URL:https://www.solesistersrc.co.uk/event/bank-holiday-no-run-5/
END:VEVENT
BEGIN:VEVENT
DTSTART;TZID=UTC:20240819T181500
DTEND;TZID=UTC:20240819T193000
DTSTAMP:20260421T235055
CREATED:20240708T183045Z
LAST-MODIFIED:20240708T183045Z
UID:1552-1724091300-1724095800@www.solesistersrc.co.uk
SUMMARY:Sole Sisters Club Run- Jubilee Centre\, Cedar Room
DESCRIPTION:This is for paid up members. Please contact the club for details of how to run as a guest member.
URL:https://www.solesistersrc.co.uk/event/sole-sisters-club-run-jubilee-centre-cedar-room-2/
LOCATION:Jubilee Centre\, BS32 8HL
CATEGORIES:Club Night
ATTACH;FMTTYPE=image/png:https://www.solesistersrc.co.uk/wp-content/uploads/2018/07/shoe.png
END:VEVENT
BEGIN:VEVENT
DTSTART;TZID=UTC:20240812T181500
DTEND;TZID=UTC:20240812T193000
DTSTAMP:20260421T235055
CREATED:20240708T182911Z
LAST-MODIFIED:20240708T182911Z
UID:1550-1723486500-1723491000@www.solesistersrc.co.uk
SUMMARY:Sole Sisters Club Run - Greenfield Centre
DESCRIPTION:This is for paid up members. Please contact the club for details of how to run as a guest member.
URL:https://www.solesistersrc.co.uk/event/sole-sisters-club-run-greenfield-centre-17/
LOCATION:Greenfield Centre\, Park Avenue\, Winterbourne\, BS36 1NJ\, United Kingdom
CATEGORIES:Club Night
ATTACH;FMTTYPE=image/png:https://www.solesistersrc.co.uk/wp-content/uploads/2018/07/shoe.png
END:VEVENT
BEGIN:VEVENT
DTSTART;TZID=UTC:20240805T181500
DTEND;TZID=UTC:20240805T193000
DTSTAMP:20260421T235055
CREATED:20240708T182525Z
LAST-MODIFIED:20240708T182525Z
UID:1538-1722881700-1722886200@www.solesistersrc.co.uk
SUMMARY:Sole Sisters Club Run - Bailey's Court\, Apple Room
DESCRIPTION:This is for paid up members. Please contact the club for details of how to run as a guest member.
URL:https://www.solesistersrc.co.uk/event/sole-sisters-club-run-baileys-court-apple-room-2/
LOCATION:Baileys Court\, The Pavillion\, Baileys Ct\, Bradley Stoke\, Bristol\, BS32 8BH\, United Kingdom
CATEGORIES:Club Night
ATTACH;FMTTYPE=image/png:https://www.solesistersrc.co.uk/wp-content/uploads/2018/07/chat.png
END:VEVENT
BEGIN:VEVENT
DTSTART;TZID=UTC:20240729T181500
DTEND;TZID=UTC:20240729T193000
DTSTAMP:20260421T235055
CREATED:20240708T182400Z
LAST-MODIFIED:20240708T182400Z
UID:1535-1722276900-1722281400@www.solesistersrc.co.uk
SUMMARY:Sole Sisters Club Run - Whiteshill Church\, Hambrook
DESCRIPTION:This is for paid up members. Please contact the club for details of how to run as a guest member.
URL:https://www.solesistersrc.co.uk/event/sole-sisters-club-run-whiteshill-church-hambrook-8/
LOCATION:Whiteshill Church\, Hambrook\, Whiteshill Evangelical Church\, Bristol Road\, Hambrook\, BS16 1SD
CATEGORIES:Club Night
END:VEVENT
BEGIN:VEVENT
DTSTART;TZID=UTC:20240722T181500
DTEND;TZID=UTC:20240722T193000
DTSTAMP:20260421T235055
CREATED:20240708T182325Z
LAST-MODIFIED:20240708T182429Z
UID:1533-1721672100-1721676600@www.solesistersrc.co.uk
SUMMARY:Sole Sisters Club Run - Patchway Sports and Social Club
DESCRIPTION:This is for paid up members. Please contact the club for details of how to run as a guest member.
URL:https://www.solesistersrc.co.uk/event/sole-sisters-club-run-patchway-sports-and-social-club-2/
LOCATION:Patchway Sports & Social Club\, Coniston Rd\, Patchway\, Bristol\, BS34 5JR\, United Kingdom
CATEGORIES:Club Night
ATTACH;FMTTYPE=image/png:https://www.solesistersrc.co.uk/wp-content/uploads/2018/07/shoe.png
END:VEVENT
BEGIN:VEVENT
DTSTART;TZID=UTC:20240715T181500
DTEND;TZID=UTC:20240715T193000
DTSTAMP:20260421T235055
CREATED:20240708T182207Z
LAST-MODIFIED:20240708T182445Z
UID:1531-1721067300-1721071800@www.solesistersrc.co.uk
SUMMARY:Sole Sisters Club Run- Little Stoke Community Hall
DESCRIPTION:This is for paid up members. Please contact the club for details of how to run as a guest member.
URL:https://www.solesistersrc.co.uk/event/sole-sisters-club-run-little-stoke-community-hall-2/
LOCATION:Little Stoke Park\, Little Stoke Lane\, Bristol\, BS34 6HR
CATEGORIES:Club Night
ATTACH;FMTTYPE=image/png:https://www.solesistersrc.co.uk/wp-content/uploads/2018/07/shoe.png
END:VEVENT
BEGIN:VEVENT
DTSTART;TZID=UTC:20240624T181500
DTEND;TZID=UTC:20240624T193000
DTSTAMP:20260421T235055
CREATED:20240219T184737Z
LAST-MODIFIED:20240219T184737Z
UID:1497-1719252900-1719257400@www.solesistersrc.co.uk
SUMMARY:Sole Sisters Club Run - Whiteshill Church\, Hambrook
DESCRIPTION:This is for paid up members – please check our closed Facebook group or weekly email for details on how to sign up.
URL:https://www.solesistersrc.co.uk/event/sole-sisters-club-run-whiteshill-church-hambrook-7/
LOCATION:Whiteshill Church\, Hambrook\, Whiteshill Evangelical Church\, Bristol Road\, Hambrook\, BS16 1SD
CATEGORIES:Club Night
END:VEVENT
BEGIN:VEVENT
DTSTART;TZID=UTC:20240617T180000
DTEND;TZID=UTC:20240617T193000
DTSTAMP:20260421T235055
CREATED:20240219T184647Z
LAST-MODIFIED:20240219T184647Z
UID:1495-1718647200-1718652600@www.solesistersrc.co.uk
SUMMARY:Sole Sisters Club Run - Patchway Sports and Social Club
DESCRIPTION:This is for paid up members – please check our closed Facebook group or weekly email for details on how to sign up.
URL:https://www.solesistersrc.co.uk/event/sole-sisters-club-run-patchway-sports-and-social-club/
LOCATION:Patchway Sports & Social Club\, Coniston Rd\, Patchway\, Bristol\, BS34 5JR\, United Kingdom
CATEGORIES:Club Night
ATTACH;FMTTYPE=image/png:https://www.solesistersrc.co.uk/wp-content/uploads/2018/07/shoe.png
END:VEVENT
BEGIN:VEVENT
DTSTART;TZID=UTC:20240610T180000
DTEND;TZID=UTC:20240610T193000
DTSTAMP:20260421T235055
CREATED:20240219T184307Z
LAST-MODIFIED:20240219T184307Z
UID:1489-1718042400-1718047800@www.solesistersrc.co.uk
SUMMARY:Sole Sisters Club Run- Little Stoke Community Hall
DESCRIPTION:This is for paid up members – please check our closed Facebook group or weekly email for details on how to sign up.
URL:https://www.solesistersrc.co.uk/event/sole-sisters-club-run-little-stoke-community-hall/
LOCATION:Little Stoke Park\, Little Stoke Lane\, Bristol\, BS34 6HR
CATEGORIES:Club Night
ATTACH;FMTTYPE=image/png:https://www.solesistersrc.co.uk/wp-content/uploads/2018/07/shoe.png
END:VEVENT
BEGIN:VEVENT
DTSTART;TZID=UTC:20240609T093000
DTEND;TZID=UTC:20240609T110000
DTSTAMP:20260421T235055
CREATED:20231209T072240Z
LAST-MODIFIED:20231209T072240Z
UID:1411-1717925400-1717930800@www.solesistersrc.co.uk
SUMMARY:Bradley Stoke 10km
DESCRIPTION:Join us for the Bradley Stoke 10km 2024! \nSee the dedicated Bradley Stoke 10km tab at the top of the page for details on how to enter. \nRegistration opens at 8am.
URL:https://www.solesistersrc.co.uk/event/bradley-stoke-10km-2/
LOCATION:Jubilee Centre\, BS32 8HL
END:VEVENT
BEGIN:VEVENT
DTSTART;TZID=UTC:20240603T180000
DTEND;TZID=UTC:20240603T193000
DTSTAMP:20260421T235055
CREATED:20240219T184459Z
LAST-MODIFIED:20240219T184459Z
UID:1492-1717437600-1717443000@www.solesistersrc.co.uk
SUMMARY:Sole Sisters Club Run - Bailey's Court\, Apple Room
DESCRIPTION:This is for paid up members – please check our closed Facebook group or weekly email for details on how to sign up.
URL:https://www.solesistersrc.co.uk/event/sole-sisters-club-run-baileys-court-apple-room/
LOCATION:Baileys Court\, The Pavillion\, Baileys Ct\, Bradley Stoke\, Bristol\, BS32 8BH\, United Kingdom
CATEGORIES:Club Night
ATTACH;FMTTYPE=image/png:https://www.solesistersrc.co.uk/wp-content/uploads/2018/07/chat.png
END:VEVENT
BEGIN:VEVENT
DTSTART;TZID=UTC:20240527T180000
DTEND;TZID=UTC:20240527T193000
DTSTAMP:20260421T235055
CREATED:20240130T202920Z
LAST-MODIFIED:20240130T202920Z
UID:1463-1716832800-1716838200@www.solesistersrc.co.uk
SUMMARY:Bank Holiday - No Run
DESCRIPTION:
URL:https://www.solesistersrc.co.uk/event/bank-holiday-no-run-3/
END:VEVENT
BEGIN:VEVENT
DTSTART;TZID=UTC:20240520T180000
DTEND;TZID=UTC:20240520T193000
DTSTAMP:20260421T235055
CREATED:20240130T203008Z
LAST-MODIFIED:20240219T184339Z
UID:1467-1716228000-1716233400@www.solesistersrc.co.uk
SUMMARY:Sole Sisters Club Run- Little Stoke Community Hall
DESCRIPTION:This is for paid up members – please check our closed Facebook group or weekly email for details on how to sign up.
URL:https://www.solesistersrc.co.uk/event/sole-sisters-club-run-little-stoke-park-11/
LOCATION:Little Stoke Park\, Little Stoke Lane\, Bristol\, BS34 6HR
CATEGORIES:Club Night
ATTACH;FMTTYPE=image/png:https://www.solesistersrc.co.uk/wp-content/uploads/2018/07/shoe.png
END:VEVENT
BEGIN:VEVENT
DTSTART;TZID=UTC:20240513T181500
DTEND;TZID=UTC:20240513T193000
DTSTAMP:20260421T235055
CREATED:20240130T202943Z
LAST-MODIFIED:20240219T184211Z
UID:1465-1715624100-1715628600@www.solesistersrc.co.uk
SUMMARY:Sole Sisters Club Run - Bradley Stoke Active Centre\, Kipling Suite
DESCRIPTION:This is for paid up members – please check our closed Facebook group or weekly email for details on how to sign up.
URL:https://www.solesistersrc.co.uk/event/sole-sisters-club-run-bradley-stoke-active-centre-5/
LOCATION:Bradley Stoke Active Centre\, Bradley Stoke Leisure Centre\, Fiddlers Wood Lane\, Bradley Stoke\, Bristol\, BS32 9BS\, United Kingdom
CATEGORIES:Club Night
ATTACH;FMTTYPE=image/png:https://www.solesistersrc.co.uk/wp-content/uploads/2018/07/shoe.png
END:VEVENT
BEGIN:VEVENT
DTSTART;TZID=UTC:20240506T180000
DTEND;TZID=UTC:20240506T193000
DTSTAMP:20260421T235055
CREATED:20240130T202846Z
LAST-MODIFIED:20240130T202846Z
UID:1461-1715018400-1715023800@www.solesistersrc.co.uk
SUMMARY:Bank Holiday - No Run
DESCRIPTION:
URL:https://www.solesistersrc.co.uk/event/bank-holiday-no-run-2/
END:VEVENT
BEGIN:VEVENT
DTSTART;TZID=UTC:20240429T181500
DTEND;TZID=UTC:20240429T193000
DTSTAMP:20260421T235055
CREATED:20240130T202802Z
LAST-MODIFIED:20240130T202802Z
UID:1459-1714414500-1714419000@www.solesistersrc.co.uk
SUMMARY:Sole Sisters Club Run - Whiteshill Church\, Hambrook
DESCRIPTION:This is for paid up members – please check our closed Facebook group or weekly email for details on how to sign up.
URL:https://www.solesistersrc.co.uk/event/sole-sisters-club-run-whiteshill-church-hambrook-6/
LOCATION:Whiteshill Church\, Hambrook\, Whiteshill Evangelical Church\, Bristol Road\, Hambrook\, BS16 1SD
CATEGORIES:Club Night
END:VEVENT
BEGIN:VEVENT
DTSTART;TZID=UTC:20240422T181500
DTEND;TZID=UTC:20240422T193000
DTSTAMP:20260421T235055
CREATED:20240130T202735Z
LAST-MODIFIED:20240219T184149Z
UID:1457-1713809700-1713814200@www.solesistersrc.co.uk
SUMMARY:Sole Sisters Club Run - Bradley Stoke Active Centre\, Kipling Suite
DESCRIPTION:This is for paid up members – please check our closed Facebook group or weekly email for details on how to sign up.
URL:https://www.solesistersrc.co.uk/event/sole-sisters-club-run-bradley-stoke-active-centre-4/
LOCATION:Bradley Stoke Active Centre\, Bradley Stoke Leisure Centre\, Fiddlers Wood Lane\, Bradley Stoke\, Bristol\, BS32 9BS\, United Kingdom
CATEGORIES:Club Night
ATTACH;FMTTYPE=image/png:https://www.solesistersrc.co.uk/wp-content/uploads/2018/07/shoe.png
END:VEVENT
BEGIN:VEVENT
DTSTART;TZID=UTC:20240415T180000
DTEND;TZID=UTC:20240415T193000
DTSTAMP:20260421T235055
CREATED:20240130T202654Z
LAST-MODIFIED:20240219T184555Z
UID:1455-1713204000-1713209400@www.solesistersrc.co.uk
SUMMARY:Sole Sisters Club Run - Patchway Sports and Social Club
DESCRIPTION:This is for paid up members – please check our closed Facebook group or weekly email for details on how to sign up.
URL:https://www.solesistersrc.co.uk/event/sole-sisters-club-run-patchway-7/
LOCATION:Patchway Sports & Social Club\, Coniston Rd\, Patchway\, Bristol\, BS34 5JR\, United Kingdom
CATEGORIES:Club Night
ATTACH;FMTTYPE=image/png:https://www.solesistersrc.co.uk/wp-content/uploads/2018/07/shoe.png
END:VEVENT
BEGIN:VEVENT
DTSTART;TZID=UTC:20240408T181500
DTEND;TZID=UTC:20240408T193000
DTSTAMP:20260421T235055
CREATED:20240130T202222Z
LAST-MODIFIED:20240130T202222Z
UID:1452-1712600100-1712604600@www.solesistersrc.co.uk
SUMMARY:Sole Sisters Club Run- Little Stoke Park
DESCRIPTION:This is for paid up members – please check our closed Facebook group or weekly email for details on how to sign up.
URL:https://www.solesistersrc.co.uk/event/sole-sisters-club-run-little-stoke-park-10/
LOCATION:Little Stoke Park\, Little Stoke Lane\, Bristol\, BS34 6HR
CATEGORIES:Club Night
ATTACH;FMTTYPE=image/png:https://www.solesistersrc.co.uk/wp-content/uploads/2018/07/shoe.png
END:VEVENT
BEGIN:VEVENT
DTSTART;TZID=UTC:20240401T180000
DTEND;TZID=UTC:20240401T193000
DTSTAMP:20260421T235055
CREATED:20240219T183849Z
LAST-MODIFIED:20240219T183849Z
UID:1483-1711994400-1711999800@www.solesistersrc.co.uk
SUMMARY:Bank Holiday - No Run
DESCRIPTION:
URL:https://www.solesistersrc.co.uk/event/bank-holiday-no-run-4/
END:VEVENT
END:VCALENDAR