BEGIN:VCALENDAR
VERSION:2.0
PRODID:-//Sole Sisters Running Club - North Bristol - ECPv6.15.20//NONSGML v1.0//EN
CALSCALE:GREGORIAN
METHOD:PUBLISH
X-WR-CALNAME:Sole Sisters Running Club - North Bristol
X-ORIGINAL-URL:https://www.solesistersrc.co.uk
X-WR-CALDESC:Events for Sole Sisters Running Club - North Bristol
REFRESH-INTERVAL;VALUE=DURATION:PT1H
X-Robots-Tag:noindex
X-PUBLISHED-TTL:PT1H
BEGIN:VTIMEZONE
TZID:UTC
BEGIN:STANDARD
TZOFFSETFROM:+0000
TZOFFSETTO:+0000
TZNAME:UTC
DTSTART:20220101T000000
END:STANDARD
END:VTIMEZONE
BEGIN:VEVENT
DTSTART;TZID=UTC:20240408T181500
DTEND;TZID=UTC:20240408T193000
DTSTAMP:20260422T020836
CREATED:20240130T202222Z
LAST-MODIFIED:20240130T202222Z
UID:1452-1712600100-1712604600@www.solesistersrc.co.uk
SUMMARY:Sole Sisters Club Run- Little Stoke Park
DESCRIPTION:This is for paid up members – please check our closed Facebook group or weekly email for details on how to sign up.
URL:https://www.solesistersrc.co.uk/event/sole-sisters-club-run-little-stoke-park-10/
LOCATION:Little Stoke Park\, Little Stoke Lane\, Bristol\, BS34 6HR
CATEGORIES:Club Night
ATTACH;FMTTYPE=image/png:https://www.solesistersrc.co.uk/wp-content/uploads/2018/07/shoe.png
END:VEVENT
BEGIN:VEVENT
DTSTART;TZID=UTC:20240401T180000
DTEND;TZID=UTC:20240401T193000
DTSTAMP:20260422T020836
CREATED:20240219T183849Z
LAST-MODIFIED:20240219T183849Z
UID:1483-1711994400-1711999800@www.solesistersrc.co.uk
SUMMARY:Bank Holiday - No Run
DESCRIPTION:
URL:https://www.solesistersrc.co.uk/event/bank-holiday-no-run-4/
END:VEVENT
BEGIN:VEVENT
DTSTART;TZID=UTC:20240325T181500
DTEND;TZID=UTC:20240325T193000
DTSTAMP:20260422T020836
CREATED:20231210T192333Z
LAST-MODIFIED:20240130T202431Z
UID:1433-1711390500-1711395000@www.solesistersrc.co.uk
SUMMARY:Sole Sisters Club Run - Whiteshill Church\, Hambrook
DESCRIPTION:This is for paid up members – please check our closed Facebook group or weekly email for details on how to sign up.
URL:https://www.solesistersrc.co.uk/event/sole-sisters-club-run-whiteshill-church-hambrook-5/
LOCATION:Whiteshill Church\, Hambrook\, Whiteshill Evangelical Church\, Bristol Road\, Hambrook\, BS16 1SD
CATEGORIES:Club Night
END:VEVENT
BEGIN:VEVENT
DTSTART;TZID=UTC:20240318T181500
DTEND;TZID=UTC:20240318T193000
DTSTAMP:20260422T020836
CREATED:20240219T183644Z
LAST-MODIFIED:20240219T183644Z
UID:1481-1710785700-1710790200@www.solesistersrc.co.uk
SUMMARY:Sole Sisters Club Run- Jubilee Centre\, Cedar Room
DESCRIPTION:This is for paid up members – please check our closed Facebook group or weekly email for details on how to sign up.
URL:https://www.solesistersrc.co.uk/event/sole-sisters-club-run-jubilee-centre-cedar-room/
LOCATION:Jubilee Centre\, BS32 8HL
CATEGORIES:Club Night
ATTACH;FMTTYPE=image/png:https://www.solesistersrc.co.uk/wp-content/uploads/2018/07/shoe.png
END:VEVENT
BEGIN:VEVENT
DTSTART;TZID=UTC:20240311T181500
DTEND;TZID=UTC:20240311T193000
DTSTAMP:20260422T020836
CREATED:20231210T192143Z
LAST-MODIFIED:20240219T184109Z
UID:1431-1710180900-1710185400@www.solesistersrc.co.uk
SUMMARY:Sole Sisters Club Run - Bailey's Court\, Orchard Room
DESCRIPTION:This is for paid up members – please check our closed Facebook group or weekly email for details on how to sign up.
URL:https://www.solesistersrc.co.uk/event/sole-sisters-club-run-baileys-court-27/
LOCATION:Baileys Court\, The Pavillion\, Baileys Ct\, Bradley Stoke\, Bristol\, BS32 8BH\, United Kingdom
CATEGORIES:Club Night
ATTACH;FMTTYPE=image/png:https://www.solesistersrc.co.uk/wp-content/uploads/2018/07/chat.png
END:VEVENT
BEGIN:VEVENT
DTSTART;TZID=UTC:20240304T181500
DTEND;TZID=UTC:20240304T193000
DTSTAMP:20260422T020836
CREATED:20231210T192059Z
LAST-MODIFIED:20240130T202550Z
UID:1429-1709576100-1709580600@www.solesistersrc.co.uk
SUMMARY:Sole Sisters Club Run- Patchway Sports and Social Club
DESCRIPTION:This is for paid up members – please check our closed Facebook group or weekly email for details on how to sign up.
URL:https://www.solesistersrc.co.uk/event/sole-sisters-club-run-little-stoke-park-9/
LOCATION:Patchway Sports & Social Club\, Coniston Rd\, Patchway\, Bristol\, BS34 5JR\, United Kingdom
CATEGORIES:Club Night
ATTACH;FMTTYPE=image/png:https://www.solesistersrc.co.uk/wp-content/uploads/2018/07/shoe.png
END:VEVENT
BEGIN:VEVENT
DTSTART;TZID=UTC:20240226T181500
DTEND;TZID=UTC:20240226T193000
DTSTAMP:20260422T020836
CREATED:20231210T191935Z
LAST-MODIFIED:20240219T184043Z
UID:1427-1708971300-1708975800@www.solesistersrc.co.uk
SUMMARY:Sole Sisters Club Run - Bradley Stoke Active Centre\, Kipling Suite
DESCRIPTION:This is for paid up members – please check our closed Facebook group or weekly email for details on how to sign up.
URL:https://www.solesistersrc.co.uk/event/sole-sisters-club-run-bradley-stoke-active-centre-3/
LOCATION:Bradley Stoke Active Centre\, Bradley Stoke Leisure Centre\, Fiddlers Wood Lane\, Bradley Stoke\, Bristol\, BS32 9BS\, United Kingdom
CATEGORIES:Club Night
ATTACH;FMTTYPE=image/png:https://www.solesistersrc.co.uk/wp-content/uploads/2018/07/shoe.png
END:VEVENT
BEGIN:VEVENT
DTSTART;TZID=UTC:20240219T181500
DTEND;TZID=UTC:20240219T193000
DTSTAMP:20260422T020836
CREATED:20231210T191840Z
LAST-MODIFIED:20240130T202334Z
UID:1425-1708366500-1708371000@www.solesistersrc.co.uk
SUMMARY:Sole Sisters Club Run - Patchway
DESCRIPTION:This is for paid up members – please check our closed Facebook group or weekly email for details on how to sign up.
URL:https://www.solesistersrc.co.uk/event/sole-sisters-club-run-patchway-6/
LOCATION:Patchway Sports & Social Club\, Coniston Rd\, Patchway\, Bristol\, BS34 5JR\, United Kingdom
CATEGORIES:Club Night
ATTACH;FMTTYPE=image/png:https://www.solesistersrc.co.uk/wp-content/uploads/2018/07/shoe.png
END:VEVENT
BEGIN:VEVENT
DTSTART;TZID=UTC:20240212T181500
DTEND;TZID=UTC:20240212T203000
DTSTAMP:20260422T020836
CREATED:20231209T072045Z
LAST-MODIFIED:20231209T072045Z
UID:1409-1707761700-1707769800@www.solesistersrc.co.uk
SUMMARY:Beginners Course - Week 6 (Final!)
DESCRIPTION:
URL:https://www.solesistersrc.co.uk/event/beginners-course-week-6-final-4/
LOCATION:Baileys Court\, The Pavillion\, Baileys Ct\, Bradley Stoke\, Bristol\, BS32 8BH\, United Kingdom
CATEGORIES:Beginners,Club Night
ATTACH;FMTTYPE=image/jpeg:https://www.solesistersrc.co.uk/wp-content/uploads/2018/07/beginners_course-1.jpg
END:VEVENT
BEGIN:VEVENT
DTSTART;TZID=UTC:20240212T181500
DTEND;TZID=UTC:20240212T193000
DTSTAMP:20260422T020836
CREATED:20231210T191751Z
LAST-MODIFIED:20240130T202354Z
UID:1423-1707761700-1707766200@www.solesistersrc.co.uk
SUMMARY:Sole Sisters Club Run - Bailey's Court
DESCRIPTION:This is for paid up members – please check our closed Facebook group or weekly email for details on how to sign up.
URL:https://www.solesistersrc.co.uk/event/sole-sisters-club-run-baileys-court-26/
LOCATION:Baileys Court\, The Pavillion\, Baileys Ct\, Bradley Stoke\, Bristol\, BS32 8BH\, United Kingdom
CATEGORIES:Club Night
ATTACH;FMTTYPE=image/png:https://www.solesistersrc.co.uk/wp-content/uploads/2018/07/chat.png
END:VEVENT
BEGIN:VEVENT
DTSTART;TZID=UTC:20240205T181500
DTEND;TZID=UTC:20240205T193000
DTSTAMP:20260422T020836
CREATED:20231210T190619Z
LAST-MODIFIED:20240130T202412Z
UID:1419-1707156900-1707161400@www.solesistersrc.co.uk
SUMMARY:Sole Sisters Club Run- Jubilee Centre
DESCRIPTION:This is for paid up members – please check our closed Facebook group or weekly email for details on how to sign up.
URL:https://www.solesistersrc.co.uk/event/sole-sisters-club-run-jubilee-centre-16/
LOCATION:Jubilee Centre\, BS32 8HL
CATEGORIES:Club Night
ATTACH;FMTTYPE=image/png:https://www.solesistersrc.co.uk/wp-content/uploads/2018/07/shoe.png
END:VEVENT
BEGIN:VEVENT
DTSTART;TZID=UTC:20240205T181500
DTEND;TZID=UTC:20240205T193000
DTSTAMP:20260422T020836
CREATED:20231209T071527Z
LAST-MODIFIED:20240122T204408Z
UID:1400-1707156900-1707161400@www.solesistersrc.co.uk
SUMMARY:Beginners Course - Week 5
DESCRIPTION:
URL:https://www.solesistersrc.co.uk/event/beginners-course-week-5-6/
LOCATION:Jubilee Centre\, BS32 8HL
CATEGORIES:Beginners,Club Night
ATTACH;FMTTYPE=image/jpeg:https://www.solesistersrc.co.uk/wp-content/uploads/2018/07/beginners_course-1.jpg
END:VEVENT
BEGIN:VEVENT
DTSTART;TZID=UTC:20240129T181500
DTEND;TZID=UTC:20240129T193000
DTSTAMP:20260422T020836
CREATED:20231209T071425Z
LAST-MODIFIED:20240122T204837Z
UID:1399-1706552100-1706556600@www.solesistersrc.co.uk
SUMMARY:Beginners Course Week 4
DESCRIPTION:Please see the ‘Join Us’ page for details on how to sign up
URL:https://www.solesistersrc.co.uk/event/beginners-course-week-4-5/
LOCATION:Filton Community Centre\, Elm Park\, Filton\, BS34 7PS
CATEGORIES:Beginners,Club Night
ATTACH;FMTTYPE=image/jpeg:https://www.solesistersrc.co.uk/wp-content/uploads/2018/07/beginners_course-1.jpg
END:VEVENT
BEGIN:VEVENT
DTSTART;TZID=UTC:20240129T180000
DTEND;TZID=UTC:20240129T203000
DTSTAMP:20260422T020836
CREATED:20231210T190523Z
LAST-MODIFIED:20240122T204801Z
UID:1417-1706551200-1706560200@www.solesistersrc.co.uk
SUMMARY:Sole Sisters Club Run - Filton Community Centre
DESCRIPTION:This is for paid up members – please check our closed Facebook group or weekly email for details on how to sign up.
URL:https://www.solesistersrc.co.uk/event/sole-sisters-club-run-filton-community-centre-16/
LOCATION:Filton Community Centre\, Elm Park\, Filton\, BS34 7PS
CATEGORIES:Club Night
ATTACH;FMTTYPE=image/png:https://www.solesistersrc.co.uk/wp-content/uploads/2018/07/shoe.png
END:VEVENT
BEGIN:VEVENT
DTSTART;TZID=UTC:20240122T181500
DTEND;TZID=UTC:20240122T203000
DTSTAMP:20260422T020836
CREATED:20231209T071331Z
LAST-MODIFIED:20231209T071640Z
UID:1398-1705947300-1705955400@www.solesistersrc.co.uk
SUMMARY:Beginners Course - Week 3
DESCRIPTION:Please see the ‘Join Us’ page for details on how to sign up
URL:https://www.solesistersrc.co.uk/event/beginners-course-week-3-4/
LOCATION:Baileys Court\, The Pavillion\, Baileys Ct\, Bradley Stoke\, Bristol\, BS32 8BH\, United Kingdom
CATEGORIES:Beginners,Run
ATTACH;FMTTYPE=image/jpeg:https://www.solesistersrc.co.uk/wp-content/uploads/2018/07/beginners_course-1.jpg
END:VEVENT
BEGIN:VEVENT
DTSTART;TZID=UTC:20240122T180000
DTEND;TZID=UTC:20240122T200000
DTSTAMP:20260422T020836
CREATED:20231210T190414Z
LAST-MODIFIED:20231210T190414Z
UID:1415-1705946400-1705953600@www.solesistersrc.co.uk
SUMMARY:Sole Sisters Club Run - Bradley Stoke Active Centre
DESCRIPTION:This is for paid up members – please check our closed Facebook group or weekly email for details on how to sign up.
URL:https://www.solesistersrc.co.uk/event/sole-sisters-club-run-bradley-stoke-active-centre-2/
LOCATION:Bradley Stoke Active Centre\, Bradley Stoke Leisure Centre\, Fiddlers Wood Lane\, Bradley Stoke\, Bristol\, BS32 9BS\, United Kingdom
CATEGORIES:Club Night
ATTACH;FMTTYPE=image/png:https://www.solesistersrc.co.uk/wp-content/uploads/2018/07/shoe.png
END:VEVENT
BEGIN:VEVENT
DTSTART;TZID=UTC:20240115T181500
DTEND;TZID=UTC:20240115T203000
DTSTAMP:20260422T020836
CREATED:20231209T071228Z
LAST-MODIFIED:20231209T071228Z
UID:1397-1705342500-1705350600@www.solesistersrc.co.uk
SUMMARY:Beginners Course - Week 2
DESCRIPTION:Please see the ‘Join Us’ page for details on how to sign up
URL:https://www.solesistersrc.co.uk/event/beginners-course-week-2-5/
LOCATION:Patchway Sports & Social Club\, Coniston Rd\, Patchway\, Bristol\, BS34 5JR\, United Kingdom
CATEGORIES:Beginners,Club Night
ATTACH;FMTTYPE=image/jpeg:https://www.solesistersrc.co.uk/wp-content/uploads/2018/07/beginners_course-1.jpg
END:VEVENT
BEGIN:VEVENT
DTSTART;TZID=UTC:20240115T180000
DTEND;TZID=UTC:20240115T193000
DTSTAMP:20260422T020836
CREATED:20230415T190844Z
LAST-MODIFIED:20231210T190306Z
UID:1314-1705341600-1705347000@www.solesistersrc.co.uk
SUMMARY:Sole Sisters Club Run - Patchway
DESCRIPTION:This is for paid up members – please check our closed Facebook group or weekly email for details on how to sign up.
URL:https://www.solesistersrc.co.uk/event/sole-sisters-club-run-patchway-4/
LOCATION:Patchway Sports & Social Club\, Coniston Rd\, Patchway\, Bristol\, BS34 5JR\, United Kingdom
CATEGORIES:Club Night
ATTACH;FMTTYPE=image/png:https://www.solesistersrc.co.uk/wp-content/uploads/2018/07/shoe.png
END:VEVENT
BEGIN:VEVENT
DTSTART;TZID=UTC:20240108T181500
DTEND;TZID=UTC:20240108T193000
DTSTAMP:20260422T020836
CREATED:20220725T174823Z
LAST-MODIFIED:20231209T071615Z
UID:1144-1704737700-1704742200@www.solesistersrc.co.uk
SUMMARY:Beginners Course Week 1
DESCRIPTION:Please see the ‘Join Us’ page for details on how to sign up
URL:https://www.solesistersrc.co.uk/event/beginners-course-week-1-2/
LOCATION:Baileys Court\, The Pavillion\, Baileys Ct\, Bradley Stoke\, Bristol\, BS32 8BH\, United Kingdom
CATEGORIES:Beginners,Club Night
ATTACH;FMTTYPE=image/jpeg:https://www.solesistersrc.co.uk/wp-content/uploads/2018/07/beginners_course-1.jpg
END:VEVENT
BEGIN:VEVENT
DTSTART;TZID=UTC:20240108T180000
DTEND;TZID=UTC:20240108T193000
DTSTAMP:20260422T020836
CREATED:20231209T070639Z
LAST-MODIFIED:20231209T070639Z
UID:1392-1704736800-1704742200@www.solesistersrc.co.uk
SUMMARY:Sole Sisters Club Run - Bailey's Court
DESCRIPTION:This is for paid up members – please check our closed Facebook group or weekly email for details on how to sign up.
URL:https://www.solesistersrc.co.uk/event/sole-sisters-club-run-baileys-court-25/
LOCATION:Baileys Court\, The Pavillion\, Baileys Ct\, Bradley Stoke\, Bristol\, BS32 8BH\, United Kingdom
CATEGORIES:Club Night
ATTACH;FMTTYPE=image/png:https://www.solesistersrc.co.uk/wp-content/uploads/2018/07/chat.png
END:VEVENT
BEGIN:VEVENT
DTSTART;TZID=UTC:20240103T180000
DTEND;TZID=UTC:20240103T193000
DTSTAMP:20260422T020836
CREATED:20231210T190216Z
LAST-MODIFIED:20231210T190216Z
UID:1413-1704304800-1704310200@www.solesistersrc.co.uk
SUMMARY:Sole Sisters Club Run- Jubilee Centre
DESCRIPTION:This is for paid up members – please check our closed Facebook group or weekly email for details on how to sign up.
URL:https://www.solesistersrc.co.uk/event/sole-sisters-club-run-jubilee-centre-15/
LOCATION:Jubilee Centre\, BS32 8HL
CATEGORIES:Club Night
ATTACH;FMTTYPE=image/png:https://www.solesistersrc.co.uk/wp-content/uploads/2018/07/shoe.png
END:VEVENT
BEGIN:VEVENT
DTSTART;TZID=UTC:20240101T180000
DTEND;TZID=UTC:20240101T193000
DTSTAMP:20260422T020836
CREATED:20240130T202057Z
LAST-MODIFIED:20240130T202057Z
UID:1450-1704132000-1704137400@www.solesistersrc.co.uk
SUMMARY:Bank Holiday - No Run
DESCRIPTION:
URL:https://www.solesistersrc.co.uk/event/bank-holiday-no-run/
END:VEVENT
BEGIN:VEVENT
DTSTART;TZID=UTC:20240101T180000
DTEND;TZID=UTC:20240101T193000
DTSTAMP:20260422T020836
CREATED:20231209T070719Z
LAST-MODIFIED:20231209T070719Z
UID:1394-1704132000-1704137400@www.solesistersrc.co.uk
SUMMARY:Bank Holiday - No Run (see Wednesday)
DESCRIPTION:
URL:https://www.solesistersrc.co.uk/event/bank-holiday-no-run-see-wednesday-14/
END:VEVENT
BEGIN:VEVENT
DTSTART;TZID=UTC:20231227T180000
DTEND;TZID=UTC:20231227T193000
DTSTAMP:20260422T020836
CREATED:20231210T191711Z
LAST-MODIFIED:20231210T191711Z
UID:1421-1703700000-1703705400@www.solesistersrc.co.uk
SUMMARY:Sole Sisters Club Run - Patchway
DESCRIPTION:This is for paid up members – please check our closed Facebook group or weekly email for details on how to sign up.
URL:https://www.solesistersrc.co.uk/event/sole-sisters-club-run-patchway-5/
LOCATION:Patchway Sports & Social Club\, Coniston Rd\, Patchway\, Bristol\, BS34 5JR\, United Kingdom
CATEGORIES:Club Night
ATTACH;FMTTYPE=image/png:https://www.solesistersrc.co.uk/wp-content/uploads/2018/07/shoe.png
END:VEVENT
BEGIN:VEVENT
DTSTART;TZID=UTC:20231225T180000
DTEND;TZID=UTC:20231225T193000
DTSTAMP:20260422T020836
CREATED:20230415T190923Z
LAST-MODIFIED:20230415T190923Z
UID:1319-1703527200-1703532600@www.solesistersrc.co.uk
SUMMARY:Bank Holiday - No Run (see Wednesday)
DESCRIPTION:
URL:https://www.solesistersrc.co.uk/event/bank-holiday-no-run-see-wednesday-13/
END:VEVENT
BEGIN:VEVENT
DTSTART;TZID=UTC:20231218T180000
DTEND;TZID=UTC:20231218T193000
DTSTAMP:20260422T020836
CREATED:20230415T190815Z
LAST-MODIFIED:20230415T190815Z
UID:1311-1702922400-1702927800@www.solesistersrc.co.uk
SUMMARY:Sole Sisters Club Run- Little Stoke Park
DESCRIPTION:This is for paid up members – please check our closed Facebook group or weekly email for details on how to sign up.
URL:https://www.solesistersrc.co.uk/event/sole-sisters-club-run-little-stoke-park-8/
LOCATION:Little Stoke Park\, Little Stoke Lane\, Bristol\, BS34 6HR
CATEGORIES:Club Night
ATTACH;FMTTYPE=image/png:https://www.solesistersrc.co.uk/wp-content/uploads/2018/07/shoe.png
END:VEVENT
BEGIN:VEVENT
DTSTART;TZID=UTC:20231211T180000
DTEND;TZID=UTC:20231211T193000
DTSTAMP:20260422T020836
CREATED:20230415T190753Z
LAST-MODIFIED:20230415T190753Z
UID:1312-1702317600-1702323000@www.solesistersrc.co.uk
SUMMARY:Sole Sisters Club Run- Jubilee Centre
DESCRIPTION:This is for paid up members – please check our closed Facebook group or weekly email for details on how to sign up.
URL:https://www.solesistersrc.co.uk/event/sole-sisters-club-run-jubilee-centre-14/
LOCATION:Jubilee Centre\, BS32 8HL
CATEGORIES:Club Night
ATTACH;FMTTYPE=image/png:https://www.solesistersrc.co.uk/wp-content/uploads/2018/07/shoe.png
END:VEVENT
BEGIN:VEVENT
DTSTART;TZID=UTC:20231204T180000
DTEND;TZID=UTC:20231204T193000
DTSTAMP:20260422T020836
CREATED:20230415T190724Z
LAST-MODIFIED:20230415T190724Z
UID:1313-1701712800-1701718200@www.solesistersrc.co.uk
SUMMARY:Sole Sisters Club Run - Bailey's Court
DESCRIPTION:This is for paid up members – please check our closed Facebook group or weekly email for details on how to sign up.
URL:https://www.solesistersrc.co.uk/event/sole-sisters-club-run-baileys-court-24/
LOCATION:Baileys Court\, The Pavillion\, Baileys Ct\, Bradley Stoke\, Bristol\, BS32 8BH\, United Kingdom
CATEGORIES:Club Night
ATTACH;FMTTYPE=image/png:https://www.solesistersrc.co.uk/wp-content/uploads/2018/07/chat.png
END:VEVENT
BEGIN:VEVENT
DTSTART;TZID=UTC:20231127T180000
DTEND;TZID=UTC:20231127T200000
DTSTAMP:20260422T020836
CREATED:20230415T190608Z
LAST-MODIFIED:20231006T183600Z
UID:1303-1701108000-1701115200@www.solesistersrc.co.uk
SUMMARY:Sole Sisters Club Run - Bradley Stoke Active Centre
DESCRIPTION:This is for paid up members – please check our closed Facebook group or weekly email for details on how to sign up.
URL:https://www.solesistersrc.co.uk/event/sole-sisters-club-run-filton-community-centre-17/
LOCATION:Bradley Stoke Active Centre\, Bradley Stoke Leisure Centre\, Fiddlers Wood Lane\, Bradley Stoke\, Bristol\, BS32 9BS\, United Kingdom
CATEGORIES:Club Night
ATTACH;FMTTYPE=image/png:https://www.solesistersrc.co.uk/wp-content/uploads/2018/07/shoe.png
END:VEVENT
BEGIN:VEVENT
DTSTART;TZID=UTC:20231120T180000
DTEND;TZID=UTC:20231120T193000
DTSTAMP:20260422T020836
CREATED:20230415T190543Z
LAST-MODIFIED:20230415T190543Z
UID:1306-1700503200-1700508600@www.solesistersrc.co.uk
SUMMARY:Sole Sisters Club Run- Little Stoke Park
DESCRIPTION:This is for paid up members – please check our closed Facebook group or weekly email for details on how to sign up.
URL:https://www.solesistersrc.co.uk/event/sole-sisters-club-run-little-stoke-park-7/
LOCATION:Little Stoke Park\, Little Stoke Lane\, Bristol\, BS34 6HR
CATEGORIES:Club Night
ATTACH;FMTTYPE=image/png:https://www.solesistersrc.co.uk/wp-content/uploads/2018/07/shoe.png
END:VEVENT
END:VCALENDAR