BEGIN:VCALENDAR
VERSION:2.0
PRODID:-//Sole Sisters Running Club - North Bristol - ECPv6.15.20//NONSGML v1.0//EN
CALSCALE:GREGORIAN
METHOD:PUBLISH
X-WR-CALNAME:Sole Sisters Running Club - North Bristol
X-ORIGINAL-URL:https://www.solesistersrc.co.uk
X-WR-CALDESC:Events for Sole Sisters Running Club - North Bristol
REFRESH-INTERVAL;VALUE=DURATION:PT1H
X-Robots-Tag:noindex
X-PUBLISHED-TTL:PT1H
BEGIN:VTIMEZONE
TZID:UTC
BEGIN:STANDARD
TZOFFSETFROM:+0000
TZOFFSETTO:+0000
TZNAME:UTC
DTSTART:20210101T000000
END:STANDARD
END:VTIMEZONE
BEGIN:VEVENT
DTSTART;TZID=UTC:20230515T180000
DTEND;TZID=UTC:20230515T203000
DTSTAMP:20260423T021303
CREATED:20230415T182034Z
LAST-MODIFIED:20230415T182034Z
UID:1242-1684173600-1684182600@www.solesistersrc.co.uk
SUMMARY:Sole Sisters Club Run - Filton Community Centre
DESCRIPTION:This is for paid up members – please check our closed Facebook group or weekly email for details on how to sign up.
URL:https://www.solesistersrc.co.uk/event/sole-sisters-club-run-filton-community-centre-14/
LOCATION:Bradley Stoke Active Centre\, Bradley Stoke Leisure Centre\, Fiddlers Wood Lane\, Bradley Stoke\, Bristol\, BS32 9BS\, United Kingdom
CATEGORIES:Club Night
ATTACH;FMTTYPE=image/png:https://www.solesistersrc.co.uk/wp-content/uploads/2018/07/shoe.png
END:VEVENT
BEGIN:VEVENT
DTSTART;TZID=UTC:20230510T180000
DTEND;TZID=UTC:20230510T193000
DTSTAMP:20260423T021303
CREATED:20221220T185806Z
LAST-MODIFIED:20230415T181911Z
UID:1196-1683741600-1683747000@www.solesistersrc.co.uk
SUMMARY:Sole Sisters Club Run - Patchway
DESCRIPTION:This is for paid up members – please check our closed Facebook group or weekly email for details on how to sign up.
URL:https://www.solesistersrc.co.uk/event/sole-sisters-club-run-greenfield-centre-16/
LOCATION:Patchway Sports & Social Club\, Coniston Rd\, Patchway\, Bristol\, BS34 5JR\, United Kingdom
CATEGORIES:Club Night
ATTACH;FMTTYPE=image/png:https://www.solesistersrc.co.uk/wp-content/uploads/2018/07/shoe.png
END:VEVENT
BEGIN:VEVENT
DTSTART;TZID=UTC:20230508T180000
DTEND;TZID=UTC:20230508T193000
DTSTAMP:20260423T021303
CREATED:20230415T181619Z
LAST-MODIFIED:20230415T181619Z
UID:1236-1683568800-1683574200@www.solesistersrc.co.uk
SUMMARY:Bank Holiday - No Run (see Wednesday)
DESCRIPTION:
URL:https://www.solesistersrc.co.uk/event/bank-holiday-no-run-see-wednesday-10/
END:VEVENT
BEGIN:VEVENT
DTSTART;TZID=UTC:20230503T180000
DTEND;TZID=UTC:20230503T193000
DTSTAMP:20260423T021303
CREATED:20221220T185532Z
LAST-MODIFIED:20230415T181840Z
UID:1192-1683136800-1683142200@www.solesistersrc.co.uk
SUMMARY:Sole Sisters Club Run- Jubilee Centre
DESCRIPTION:This is for paid up members – please check our closed Facebook group or weekly email for details on how to sign up.
URL:https://www.solesistersrc.co.uk/event/sole-sisters-club-run-jubilee-centre-7/
LOCATION:Jubilee Centre\, BS32 8HL
CATEGORIES:Club Night
ATTACH;FMTTYPE=image/png:https://www.solesistersrc.co.uk/wp-content/uploads/2018/07/shoe.png
END:VEVENT
BEGIN:VEVENT
DTSTART;TZID=UTC:20230501T180000
DTEND;TZID=UTC:20230501T193000
DTSTAMP:20260423T021303
CREATED:20230415T181541Z
LAST-MODIFIED:20230415T181541Z
UID:1234-1682964000-1682969400@www.solesistersrc.co.uk
SUMMARY:Bank Holiday - No Run (see Wednesday)
DESCRIPTION:
URL:https://www.solesistersrc.co.uk/event/bank-holiday-no-run-see-wednesday-9/
END:VEVENT
BEGIN:VEVENT
DTSTART;TZID=UTC:20230424T193000
DTEND;TZID=UTC:20230424T210000
DTSTAMP:20260423T021303
CREATED:20230328T182129Z
LAST-MODIFIED:20230328T182251Z
UID:1228-1682364600-1682370000@www.solesistersrc.co.uk
SUMMARY:Sole Sisters AGM
DESCRIPTION:
URL:https://www.solesistersrc.co.uk/event/sole-sisters-agm-2/
LOCATION:Patchway Sports & Social Club\, Coniston Rd\, Patchway\, Bristol\, BS34 5JR\, United Kingdom
END:VEVENT
BEGIN:VEVENT
DTSTART;TZID=UTC:20230417T180000
DTEND;TZID=UTC:20230417T193000
DTSTAMP:20260423T021303
CREATED:20221220T185630Z
LAST-MODIFIED:20221220T185630Z
UID:1194-1681754400-1681759800@www.solesistersrc.co.uk
SUMMARY:Sole Sisters Club Run- Little Stoke Park
DESCRIPTION:This is for paid up members – please check our closed Facebook group or weekly email for details on how to sign up.
URL:https://www.solesistersrc.co.uk/event/sole-sisters-club-run-little-stoke-park-4/
LOCATION:Little Stoke Park\, Little Stoke Lane\, Bristol\, BS34 6HR
CATEGORIES:Club Night
ATTACH;FMTTYPE=image/png:https://www.solesistersrc.co.uk/wp-content/uploads/2018/07/shoe.png
END:VEVENT
BEGIN:VEVENT
DTSTART;TZID=UTC:20230410T180000
DTEND;TZID=UTC:20230410T193000
DTSTAMP:20260423T021303
CREATED:20221220T190015Z
LAST-MODIFIED:20221220T190015Z
UID:1198-1681149600-1681155000@www.solesistersrc.co.uk
SUMMARY:Bank Holiday - No Run (see Wednesday)
DESCRIPTION:
URL:https://www.solesistersrc.co.uk/event/bank-holiday-no-run-see-wednesday-8/
END:VEVENT
BEGIN:VEVENT
DTSTART;TZID=UTC:20230403T180000
DTEND;TZID=UTC:20230403T193000
DTSTAMP:20260423T021303
CREATED:20221220T185501Z
LAST-MODIFIED:20221220T185501Z
UID:1190-1680544800-1680550200@www.solesistersrc.co.uk
SUMMARY:Sole Sisters Club Run - Bailey's Court
DESCRIPTION:This is for paid up members – please check our closed Facebook group or weekly email for details on how to sign up.
URL:https://www.solesistersrc.co.uk/event/sole-sisters-club-run-baileys-court-17/
LOCATION:Baileys Court\, The Pavillion\, Baileys Ct\, Bradley Stoke\, Bristol\, BS32 8BH\, United Kingdom
CATEGORIES:Club Night
ATTACH;FMTTYPE=image/png:https://www.solesistersrc.co.uk/wp-content/uploads/2018/07/chat.png
END:VEVENT
BEGIN:VEVENT
DTSTART;TZID=UTC:20230327T180000
DTEND;TZID=UTC:20230327T193000
DTSTAMP:20260423T021303
CREATED:20221220T185423Z
LAST-MODIFIED:20221220T185423Z
UID:1188-1679940000-1679945400@www.solesistersrc.co.uk
SUMMARY:Sole Sisters Club Run - Greenfield Centre
DESCRIPTION:This is for paid up members – please check our closed Facebook group or weekly email for details on how to sign up.
URL:https://www.solesistersrc.co.uk/event/sole-sisters-club-run-greenfield-centre-15/
LOCATION:Greenfield Centre\, Park Avenue\, Winterbourne\, BS36 1NJ\, United Kingdom
CATEGORIES:Club Night
ATTACH;FMTTYPE=image/png:https://www.solesistersrc.co.uk/wp-content/uploads/2018/07/shoe.png
END:VEVENT
BEGIN:VEVENT
DTSTART;TZID=UTC:20230320T180000
DTEND;TZID=UTC:20230320T193000
DTSTAMP:20260423T021303
CREATED:20221220T185037Z
LAST-MODIFIED:20221220T185037Z
UID:1178-1679335200-1679340600@www.solesistersrc.co.uk
SUMMARY:Sole Sisters Club Run- Little Stoke Park
DESCRIPTION:This is for paid up members – please check our closed Facebook group or weekly email for details on how to sign up.
URL:https://www.solesistersrc.co.uk/event/sole-sisters-club-run-little-stoke-park-2/
LOCATION:Little Stoke Park\, Little Stoke Lane\, Bristol\, BS34 6HR
CATEGORIES:Club Night
ATTACH;FMTTYPE=image/png:https://www.solesistersrc.co.uk/wp-content/uploads/2018/07/shoe.png
END:VEVENT
BEGIN:VEVENT
DTSTART;TZID=UTC:20230313T180000
DTEND;TZID=UTC:20230313T193000
DTSTAMP:20260423T021303
CREATED:20221220T185339Z
LAST-MODIFIED:20221220T185339Z
UID:1186-1678730400-1678735800@www.solesistersrc.co.uk
SUMMARY:Sole Sisters Club Run- Jubilee Centre
DESCRIPTION:This is for paid up members – please check our closed Facebook group or weekly email for details on how to sign up.
URL:https://www.solesistersrc.co.uk/event/sole-sisters-club-run-jubilee-centre-6/
LOCATION:Jubilee Centre\, BS32 8HL
CATEGORIES:Club Night
ATTACH;FMTTYPE=image/png:https://www.solesistersrc.co.uk/wp-content/uploads/2018/07/shoe.png
END:VEVENT
BEGIN:VEVENT
DTSTART;TZID=UTC:20230306T180000
DTEND;TZID=UTC:20230306T193000
DTSTAMP:20260423T021303
CREATED:20221220T185303Z
LAST-MODIFIED:20221220T185303Z
UID:1184-1678125600-1678131000@www.solesistersrc.co.uk
SUMMARY:Sole Sisters Club Run - Bailey's Court
DESCRIPTION:This is for paid up members – please check our closed Facebook group or weekly email for details on how to sign up.
URL:https://www.solesistersrc.co.uk/event/sole-sisters-club-run-baileys-court-16/
LOCATION:Baileys Court\, The Pavillion\, Baileys Ct\, Bradley Stoke\, Bristol\, BS32 8BH\, United Kingdom
CATEGORIES:Club Night
ATTACH;FMTTYPE=image/png:https://www.solesistersrc.co.uk/wp-content/uploads/2018/07/chat.png
END:VEVENT
BEGIN:VEVENT
DTSTART;TZID=UTC:20230227T180000
DTEND;TZID=UTC:20230227T193000
DTSTAMP:20260423T021303
CREATED:20221220T185217Z
LAST-MODIFIED:20221220T185217Z
UID:1182-1677520800-1677526200@www.solesistersrc.co.uk
SUMMARY:Sole Sisters Club Run - Greenfield Centre
DESCRIPTION:This is for paid up members – please check our closed Facebook group or weekly email for details on how to sign up.
URL:https://www.solesistersrc.co.uk/event/sole-sisters-club-run-greenfield-centre-14/
LOCATION:Greenfield Centre\, Park Avenue\, Winterbourne\, BS36 1NJ\, United Kingdom
CATEGORIES:Club Night
ATTACH;FMTTYPE=image/png:https://www.solesistersrc.co.uk/wp-content/uploads/2018/07/shoe.png
END:VEVENT
BEGIN:VEVENT
DTSTART;TZID=UTC:20230220T180000
DTEND;TZID=UTC:20230220T193000
DTSTAMP:20260423T021303
CREATED:20221220T185118Z
LAST-MODIFIED:20221220T185118Z
UID:1180-1676916000-1676921400@www.solesistersrc.co.uk
SUMMARY:Sole Sisters Club Run- Little Stoke Park
DESCRIPTION:This is for paid up members – please check our closed Facebook group or weekly email for details on how to sign up.
URL:https://www.solesistersrc.co.uk/event/sole-sisters-club-run-little-stoke-park-3/
LOCATION:Little Stoke Park\, Little Stoke Lane\, Bristol\, BS34 6HR
CATEGORIES:Club Night
ATTACH;FMTTYPE=image/png:https://www.solesistersrc.co.uk/wp-content/uploads/2018/07/shoe.png
END:VEVENT
BEGIN:VEVENT
DTSTART;TZID=UTC:20230213T180000
DTEND;TZID=UTC:20230213T193000
DTSTAMP:20260423T021303
CREATED:20221220T184949Z
LAST-MODIFIED:20221220T184949Z
UID:1176-1676311200-1676316600@www.solesistersrc.co.uk
SUMMARY:Sole Sisters Club Run - Bailey's Court
DESCRIPTION:This is for paid up members – please check our closed Facebook group or weekly email for details on how to sign up.
URL:https://www.solesistersrc.co.uk/event/sole-sisters-club-run-baileys-court-15/
LOCATION:Baileys Court\, The Pavillion\, Baileys Ct\, Bradley Stoke\, Bristol\, BS32 8BH\, United Kingdom
CATEGORIES:Club Night
ATTACH;FMTTYPE=image/png:https://www.solesistersrc.co.uk/wp-content/uploads/2018/07/chat.png
END:VEVENT
BEGIN:VEVENT
DTSTART;TZID=UTC:20230206T180000
DTEND;TZID=UTC:20230206T193000
DTSTAMP:20260423T021303
CREATED:20221220T184900Z
LAST-MODIFIED:20221220T184900Z
UID:1174-1675706400-1675711800@www.solesistersrc.co.uk
SUMMARY:Sole Sisters Club Run- Jubilee Centre
DESCRIPTION:This is for paid up members – please check our closed Facebook group or weekly email for details on how to sign up.
URL:https://www.solesistersrc.co.uk/event/sole-sisters-club-run-jubilee-centre-5/
LOCATION:Jubilee Centre\, BS32 8HL
CATEGORIES:Club Night
ATTACH;FMTTYPE=image/png:https://www.solesistersrc.co.uk/wp-content/uploads/2018/07/shoe.png
END:VEVENT
BEGIN:VEVENT
DTSTART;TZID=UTC:20230130T180000
DTEND;TZID=UTC:20230130T193000
DTSTAMP:20260423T021303
CREATED:20221220T184821Z
LAST-MODIFIED:20221220T184821Z
UID:1172-1675101600-1675107000@www.solesistersrc.co.uk
SUMMARY:Sole Sisters Club Run - Greenfield Centre
DESCRIPTION:This is for paid up members – please check our closed Facebook group or weekly email for details on how to sign up.
URL:https://www.solesistersrc.co.uk/event/sole-sisters-club-run-greenfield-centre-13/
LOCATION:Greenfield Centre\, Park Avenue\, Winterbourne\, BS36 1NJ\, United Kingdom
CATEGORIES:Club Night
ATTACH;FMTTYPE=image/png:https://www.solesistersrc.co.uk/wp-content/uploads/2018/07/shoe.png
END:VEVENT
BEGIN:VEVENT
DTSTART;TZID=UTC:20230123T180000
DTEND;TZID=UTC:20230123T193000
DTSTAMP:20260423T021303
CREATED:20221220T184618Z
LAST-MODIFIED:20221220T184618Z
UID:1169-1674496800-1674502200@www.solesistersrc.co.uk
SUMMARY:Sole Sisters Club Run- Little Stoke Park
DESCRIPTION:This is for paid up members – please check our closed Facebook group or weekly email for details on how to sign up.
URL:https://www.solesistersrc.co.uk/event/sole-sisters-club-run-little-stoke-park/
LOCATION:Little Stoke Park\, Little Stoke Lane\, Bristol\, BS34 6HR
CATEGORIES:Club Night
ATTACH;FMTTYPE=image/png:https://www.solesistersrc.co.uk/wp-content/uploads/2018/07/shoe.png
END:VEVENT
BEGIN:VEVENT
DTSTART;TZID=UTC:20230116T180000
DTEND;TZID=UTC:20230116T193000
DTSTAMP:20260423T021303
CREATED:20221220T184322Z
LAST-MODIFIED:20221220T184322Z
UID:1167-1673892000-1673897400@www.solesistersrc.co.uk
SUMMARY:Sole Sisters Club Run- Jubilee Centre
DESCRIPTION:This is for paid up members – please check our closed Facebook group or weekly email for details on how to sign up.
URL:https://www.solesistersrc.co.uk/event/sole-sisters-club-run-jubilee-centre-4/
LOCATION:Jubilee Centre\, BS32 8HL
CATEGORIES:Club Night
ATTACH;FMTTYPE=image/png:https://www.solesistersrc.co.uk/wp-content/uploads/2018/07/shoe.png
END:VEVENT
BEGIN:VEVENT
DTSTART;TZID=UTC:20230109T181500
DTEND;TZID=UTC:20230109T193000
DTSTAMP:20260423T021303
CREATED:20231209T071127Z
LAST-MODIFIED:20231209T071127Z
UID:1396-1673288100-1673292600@www.solesistersrc.co.uk
SUMMARY:Beginners Course Week 1
DESCRIPTION:Please see the ‘Join Us’ page for details on how to sign up
URL:https://www.solesistersrc.co.uk/event/beginners-course-week-1-5/
LOCATION:Baileys Court\, The Pavillion\, Baileys Ct\, Bradley Stoke\, Bristol\, BS32 8BH\, United Kingdom
CATEGORIES:Beginners,Club Night
ATTACH;FMTTYPE=image/jpeg:https://www.solesistersrc.co.uk/wp-content/uploads/2018/07/beginners_course-1.jpg
END:VEVENT
BEGIN:VEVENT
DTSTART;TZID=UTC:20230109T180000
DTEND;TZID=UTC:20230109T193000
DTSTAMP:20260423T021303
CREATED:20221220T184112Z
LAST-MODIFIED:20221220T184112Z
UID:1164-1673287200-1673292600@www.solesistersrc.co.uk
SUMMARY:Sole Sisters Club Run - Baileys Court
DESCRIPTION:This is for paid up members – please check our closed Facebook group or weekly email for details on how to sign up.
URL:https://www.solesistersrc.co.uk/event/sole-sisters-club-run-baileys-court-14/
LOCATION:Baileys Court\, The Pavillion\, Baileys Ct\, Bradley Stoke\, Bristol\, BS32 8BH\, United Kingdom
CATEGORIES:Club Night
ATTACH;FMTTYPE=image/png:https://www.solesistersrc.co.uk/wp-content/uploads/2018/07/shoe.png
END:VEVENT
BEGIN:VEVENT
DTSTART;TZID=UTC:20230104T180000
DTEND;TZID=UTC:20230104T193000
DTSTAMP:20260423T021303
CREATED:20221220T183915Z
LAST-MODIFIED:20221220T184135Z
UID:1162-1672855200-1672860600@www.solesistersrc.co.uk
SUMMARY:Sole Sisters Club Run - Bailey's Court
DESCRIPTION:This is for paid up members – please check our closed Facebook group or weekly email for details on how to sign up.
URL:https://www.solesistersrc.co.uk/event/sole-sisters-club-run-baileys-court-13/
LOCATION:Baileys Court\, The Pavillion\, Baileys Ct\, Bradley Stoke\, Bristol\, BS32 8BH\, United Kingdom
CATEGORIES:Club Night
ATTACH;FMTTYPE=image/png:https://www.solesistersrc.co.uk/wp-content/uploads/2018/07/chat.png
END:VEVENT
BEGIN:VEVENT
DTSTART;TZID=UTC:20230102T180000
DTEND;TZID=UTC:20230102T193000
DTSTAMP:20260423T021303
CREATED:20221220T183809Z
LAST-MODIFIED:20221220T183809Z
UID:1160-1672682400-1672687800@www.solesistersrc.co.uk
SUMMARY:Bank Holiday - No Run (see Wednesday)
DESCRIPTION:
URL:https://www.solesistersrc.co.uk/event/bank-holiday-no-run-see-wednesday-7/
END:VEVENT
BEGIN:VEVENT
DTSTART;TZID=UTC:20221228T180000
DTEND;TZID=UTC:20221228T193000
DTSTAMP:20260423T021303
CREATED:20220701T200600Z
LAST-MODIFIED:20220701T200600Z
UID:1139-1672250400-1672255800@www.solesistersrc.co.uk
SUMMARY:Sole Sisters Club Run - Patchway Sports & Social Club
DESCRIPTION:This is for paid up members – please check our closed Facebook group or weekly email for details on how to sign up.
URL:https://www.solesistersrc.co.uk/event/sole-sisters-club-run-patchway-sports-social-club-14/
LOCATION:Patchway Sports & Social Club\, Coniston Rd\, Patchway\, Bristol\, BS34 5JR\, United Kingdom
CATEGORIES:Club Night
ATTACH;FMTTYPE=image/png:https://www.solesistersrc.co.uk/wp-content/uploads/2018/07/shoe.png
END:VEVENT
BEGIN:VEVENT
DTSTART;TZID=UTC:20221226T180000
DTEND;TZID=UTC:20221226T193000
DTSTAMP:20260423T021303
CREATED:20220701T200513Z
LAST-MODIFIED:20220701T200814Z
UID:1137-1672077600-1672083000@www.solesistersrc.co.uk
SUMMARY:Bank Holiday - No Run (see Wednesday)
DESCRIPTION:
URL:https://www.solesistersrc.co.uk/event/bank-holiday-no-run-see-wednesday-6/
END:VEVENT
BEGIN:VEVENT
DTSTART;TZID=UTC:20221219T180000
DTEND;TZID=UTC:20221219T193000
DTSTAMP:20260423T021303
CREATED:20220701T200424Z
LAST-MODIFIED:20221220T184223Z
UID:1135-1671472800-1671478200@www.solesistersrc.co.uk
SUMMARY:Sole Sisters Club Run - Jubilee Centre
DESCRIPTION:This is for paid up members – please check our closed Facebook group or weekly email for details on how to sign up.
URL:https://www.solesistersrc.co.uk/event/sole-sisters-club-run-filton-community-centre-13/
LOCATION:Jubilee Centre\, BS32 8HL
CATEGORIES:Club Night
ATTACH;FMTTYPE=image/png:https://www.solesistersrc.co.uk/wp-content/uploads/2018/07/shoe.png
END:VEVENT
BEGIN:VEVENT
DTSTART;TZID=UTC:20221212T180000
DTEND;TZID=UTC:20221212T193000
DTSTAMP:20260423T021303
CREATED:20220701T200339Z
LAST-MODIFIED:20220701T200339Z
UID:1133-1670868000-1670873400@www.solesistersrc.co.uk
SUMMARY:Sole Sisters Club Run - Patchway Sports & Social Club
DESCRIPTION:This is for paid up members – please check our closed Facebook group or weekly email for details on how to sign up.
URL:https://www.solesistersrc.co.uk/event/sole-sisters-club-run-patchway-sports-social-club-13/
LOCATION:Patchway Sports & Social Club\, Coniston Rd\, Patchway\, Bristol\, BS34 5JR\, United Kingdom
CATEGORIES:Club Night
ATTACH;FMTTYPE=image/png:https://www.solesistersrc.co.uk/wp-content/uploads/2018/07/shoe.png
END:VEVENT
BEGIN:VEVENT
DTSTART;TZID=UTC:20221205T180000
DTEND;TZID=UTC:20221205T193000
DTSTAMP:20260423T021303
CREATED:20220701T200255Z
LAST-MODIFIED:20220701T200255Z
UID:1131-1670263200-1670268600@www.solesistersrc.co.uk
SUMMARY:Sole Sisters Club Run - Bailey's Court
DESCRIPTION:This is for paid up members – please check our closed Facebook group or weekly email for details on how to sign up.
URL:https://www.solesistersrc.co.uk/event/sole-sisters-club-run-baileys-court-12/
LOCATION:Baileys Court\, The Pavillion\, Baileys Ct\, Bradley Stoke\, Bristol\, BS32 8BH\, United Kingdom
CATEGORIES:Club Night
ATTACH;FMTTYPE=image/png:https://www.solesistersrc.co.uk/wp-content/uploads/2018/07/chat.png
END:VEVENT
BEGIN:VEVENT
DTSTART;TZID=UTC:20221128T180000
DTEND;TZID=UTC:20221128T203000
DTSTAMP:20260423T021303
CREATED:20220701T200221Z
LAST-MODIFIED:20220701T200221Z
UID:1129-1669658400-1669667400@www.solesistersrc.co.uk
SUMMARY:Sole Sisters Club Run - Filton Community Centre
DESCRIPTION:This is for paid up members – please check our closed Facebook group or weekly email for details on how to sign up.
URL:https://www.solesistersrc.co.uk/event/sole-sisters-club-run-filton-community-centre-12/
LOCATION:Bradley Stoke Active Centre\, Bradley Stoke Leisure Centre\, Fiddlers Wood Lane\, Bradley Stoke\, Bristol\, BS32 9BS\, United Kingdom
CATEGORIES:Club Night
ATTACH;FMTTYPE=image/png:https://www.solesistersrc.co.uk/wp-content/uploads/2018/07/shoe.png
END:VEVENT
END:VCALENDAR