BEGIN:VCALENDAR
VERSION:2.0
PRODID:-//Sole Sisters Running Club - North Bristol - ECPv6.15.20//NONSGML v1.0//EN
CALSCALE:GREGORIAN
METHOD:PUBLISH
X-WR-CALNAME:Sole Sisters Running Club - North Bristol
X-ORIGINAL-URL:https://www.solesistersrc.co.uk
X-WR-CALDESC:Events for Sole Sisters Running Club - North Bristol
REFRESH-INTERVAL;VALUE=DURATION:PT1H
X-Robots-Tag:noindex
X-PUBLISHED-TTL:PT1H
BEGIN:VTIMEZONE
TZID:UTC
BEGIN:STANDARD
TZOFFSETFROM:+0000
TZOFFSETTO:+0000
TZNAME:UTC
DTSTART:20200101T000000
END:STANDARD
END:VTIMEZONE
BEGIN:VEVENT
DTSTART;TZID=UTC:20220214T181500
DTEND;TZID=UTC:20220214T203000
DTSTAMP:20260422T211456
CREATED:20200217T173446Z
LAST-MODIFIED:20211213T112216Z
UID:803-1644862500-1644870600@www.solesistersrc.co.uk
SUMMARY:Beginners Course - Week 6 (Final!)
DESCRIPTION:
URL:https://www.solesistersrc.co.uk/event/beginners-course-week-6-final-2/
LOCATION:Baileys Court\, The Pavillion\, Baileys Ct\, Bradley Stoke\, Bristol\, BS32 8BH\, United Kingdom
CATEGORIES:Beginners,Club Night
ATTACH;FMTTYPE=image/jpeg:https://www.solesistersrc.co.uk/wp-content/uploads/2018/07/beginners_course-1.jpg
END:VEVENT
BEGIN:VEVENT
DTSTART;TZID=UTC:20220214T181500
DTEND;TZID=UTC:20220214T193000
DTSTAMP:20260422T211456
CREATED:20220725T175452Z
LAST-MODIFIED:20220725T175452Z
UID:1149-1644862500-1644867000@www.solesistersrc.co.uk
SUMMARY:Beginners Course - Week 6 (Final!)
DESCRIPTION:
URL:https://www.solesistersrc.co.uk/event/beginners-course-week-6-final-3/
LOCATION:Baileys Court\, The Pavillion\, Baileys Ct\, Bradley Stoke\, Bristol\, BS32 8BH\, United Kingdom
CATEGORIES:Beginners,Club Night
ATTACH;FMTTYPE=image/jpeg:https://www.solesistersrc.co.uk/wp-content/uploads/2018/07/beginners_course-1.jpg
END:VEVENT
BEGIN:VEVENT
DTSTART;TZID=UTC:20220117T181500
DTEND;TZID=UTC:20220117T203000
DTSTAMP:20260422T211456
CREATED:20200217T173137Z
LAST-MODIFIED:20211213T111646Z
UID:795-1642443300-1642451400@www.solesistersrc.co.uk
SUMMARY:Beginners Course - Week 2
DESCRIPTION:Existing members of Sole Sisters and beginners should arrive for registration with the aim of running at 6.15 pm.
URL:https://www.solesistersrc.co.uk/event/beginners-course-week-2-3/
LOCATION:Bradley Stoke Active Centre\, Bradley Stoke Leisure Centre\, Fiddlers Wood Lane\, Bradley Stoke\, Bristol\, BS32 9BS\, United Kingdom
CATEGORIES:Beginners,Club Night
ATTACH;FMTTYPE=image/jpeg:https://www.solesistersrc.co.uk/wp-content/uploads/2018/07/beginners_course-1.jpg
END:VEVENT
BEGIN:VEVENT
DTSTART;TZID=UTC:20220110T181500
DTEND;TZID=UTC:20220110T203000
DTSTAMP:20260422T211456
CREATED:20200217T173057Z
LAST-MODIFIED:20211213T111152Z
UID:793-1641838500-1641846600@www.solesistersrc.co.uk
SUMMARY:Beginners Course Week 1
DESCRIPTION:Members of Sole Sisters and beginners should arrive for registration with the aim of running at 6.15 pm.
URL:https://www.solesistersrc.co.uk/event/beginners-course-week-1-4/
LOCATION:Baileys Court\, The Pavillion\, Baileys Ct\, Bradley Stoke\, Bristol\, BS32 8BH\, United Kingdom
CATEGORIES:Beginners,Club Night
ATTACH;FMTTYPE=image/jpeg:https://www.solesistersrc.co.uk/wp-content/uploads/2018/07/beginners_course-1.jpg
END:VEVENT
BEGIN:VEVENT
DTSTART;TZID=UTC:20220105T180000
DTEND;TZID=UTC:20220105T200000
DTSTAMP:20260422T211456
CREATED:20211213T113021Z
LAST-MODIFIED:20211213T113021Z
UID:986-1641405600-1641412800@www.solesistersrc.co.uk
SUMMARY:Club Night - Jubilee Centre
DESCRIPTION:
URL:https://www.solesistersrc.co.uk/event/club-night-jubilee-centre-2/
LOCATION:Jubilee Centre\, BS32 8HL
CATEGORIES:Club Night
ATTACH;FMTTYPE=image/png:https://www.solesistersrc.co.uk/wp-content/uploads/2018/07/shoe.png
END:VEVENT
BEGIN:VEVENT
DTSTART;TZID=UTC:20220103T180000
DTEND;TZID=UTC:20220103T203000
DTSTAMP:20260422T211456
CREATED:20211213T110523Z
LAST-MODIFIED:20211213T110523Z
UID:977-1641232800-1641241800@www.solesistersrc.co.uk
SUMMARY:Bank Holiday - No Run (see Wednesday)
DESCRIPTION:
URL:https://www.solesistersrc.co.uk/event/bank-holiday-no-run-see-wednesday-2/
END:VEVENT
BEGIN:VEVENT
DTSTART;TZID=UTC:20211229T180000
DTEND;TZID=UTC:20211229T200000
DTSTAMP:20260422T211456
CREATED:20210827T083928Z
LAST-MODIFIED:20210827T083928Z
UID:949-1640800800-1640808000@www.solesistersrc.co.uk
SUMMARY:Sole Sisters Club Run - Greenfield Centre
DESCRIPTION:This run is for paid up members.  Please refer to the Members Only Facebook Group.  If you would like to join us\, please send us an email.
URL:https://www.solesistersrc.co.uk/event/sole-sisters-club-run-greenfield-centre-2/
LOCATION:Greenfield Centre\, Park Avenue\, Winterbourne\, BS36 1NJ\, United Kingdom
CATEGORIES:Club Night
ATTACH;FMTTYPE=image/png:https://www.solesistersrc.co.uk/wp-content/uploads/2018/07/shoe.png
END:VEVENT
BEGIN:VEVENT
DTSTART;TZID=UTC:20211227T180000
DTEND;TZID=UTC:20211227T203000
DTSTAMP:20260422T211456
CREATED:20210827T084006Z
LAST-MODIFIED:20210827T084006Z
UID:953-1640628000-1640637000@www.solesistersrc.co.uk
SUMMARY:Bank Holiday - No Run (see Wednesday)
DESCRIPTION:
URL:https://www.solesistersrc.co.uk/event/bank-holiday-no-run-see-wednesday/
END:VEVENT
BEGIN:VEVENT
DTSTART;TZID=UTC:20211220T180000
DTEND;TZID=UTC:20211220T203000
DTSTAMP:20260422T211456
CREATED:20211213T110954Z
LAST-MODIFIED:20211213T112910Z
UID:979-1640023200-1640032200@www.solesistersrc.co.uk
SUMMARY:Club Night - Bailey's Court
DESCRIPTION:This is for paid up members – please check our closed Facebook group for details on how to sign up.
URL:https://www.solesistersrc.co.uk/event/club-night-jubilee-centre/
LOCATION:Baileys Court\, The Pavillion\, Baileys Ct\, Bradley Stoke\, Bristol\, BS32 8BH\, United Kingdom
ATTACH;FMTTYPE=image/png:https://www.solesistersrc.co.uk/wp-content/uploads/2018/07/chat.png
END:VEVENT
BEGIN:VEVENT
DTSTART;TZID=UTC:20211220T180000
DTEND;TZID=UTC:20211220T203000
DTSTAMP:20260422T211456
CREATED:20210827T083342Z
LAST-MODIFIED:20210827T083342Z
UID:941-1640023200-1640032200@www.solesistersrc.co.uk
SUMMARY:Club Night - Baileys Court
DESCRIPTION:This is for paid up members – please check our closed Facebook group for details on how to sign up.
URL:https://www.solesistersrc.co.uk/event/club-night-baileys-court-4/
LOCATION:Baileys Court\, The Pavillion\, Baileys Ct\, Bradley Stoke\, Bristol\, BS32 8BH\, United Kingdom
ATTACH;FMTTYPE=image/png:https://www.solesistersrc.co.uk/wp-content/uploads/2018/07/chat.png
END:VEVENT
BEGIN:VEVENT
DTSTART;TZID=UTC:20211213T180000
DTEND;TZID=UTC:20211213T203000
DTSTAMP:20260422T211456
CREATED:20210827T082931Z
LAST-MODIFIED:20210827T082931Z
UID:927-1639418400-1639427400@www.solesistersrc.co.uk
SUMMARY:Sole Sisters Club Run - Filton Community Centre
DESCRIPTION:This is for paid up members – please check our closed Facebook group for details on how to sign up.
URL:https://www.solesistersrc.co.uk/event/sole-sisters-club-run-filton-community-centre-11/
LOCATION:Bradley Stoke Active Centre\, Bradley Stoke Leisure Centre\, Fiddlers Wood Lane\, Bradley Stoke\, Bristol\, BS32 9BS\, United Kingdom
CATEGORIES:Club Night
ATTACH;FMTTYPE=image/png:https://www.solesistersrc.co.uk/wp-content/uploads/2018/07/shoe.png
END:VEVENT
BEGIN:VEVENT
DTSTART;TZID=UTC:20211206T180000
DTEND;TZID=UTC:20211206T203000
DTSTAMP:20260422T211456
CREATED:20210827T083814Z
LAST-MODIFIED:20210827T083814Z
UID:947-1638813600-1638822600@www.solesistersrc.co.uk
SUMMARY:Sole Sisters Club Run - Patchway Sports & Social Club
DESCRIPTION:
URL:https://www.solesistersrc.co.uk/event/sole-sisters-club-run-patchway-sports-social-club-3/
LOCATION:Patchway Sports & Social Club\, Coniston Rd\, Patchway\, Bristol\, BS34 5JR\, United Kingdom
CATEGORIES:Club Night
ATTACH;FMTTYPE=image/png:https://www.solesistersrc.co.uk/wp-content/uploads/2018/07/shoe.png
END:VEVENT
BEGIN:VEVENT
DTSTART;TZID=UTC:20211129T180000
DTEND;TZID=UTC:20211129T203000
DTSTAMP:20260422T211456
CREATED:20210827T083318Z
LAST-MODIFIED:20210827T083318Z
UID:939-1638208800-1638217800@www.solesistersrc.co.uk
SUMMARY:Club Night - Baileys Court
DESCRIPTION:This is for paid up members – please check our closed Facebook group for details on how to sign up.
URL:https://www.solesistersrc.co.uk/event/club-night-baileys-court-3/
LOCATION:Baileys Court\, The Pavillion\, Baileys Ct\, Bradley Stoke\, Bristol\, BS32 8BH\, United Kingdom
ATTACH;FMTTYPE=image/png:https://www.solesistersrc.co.uk/wp-content/uploads/2018/07/chat.png
END:VEVENT
BEGIN:VEVENT
DTSTART;TZID=UTC:20211115T180000
DTEND;TZID=UTC:20211115T203000
DTSTAMP:20260422T211456
CREATED:20210827T083253Z
LAST-MODIFIED:20210827T083253Z
UID:937-1636999200-1637008200@www.solesistersrc.co.uk
SUMMARY:Club Night - Baileys Court
DESCRIPTION:This is for paid up members – please check our closed Facebook group for details on how to sign up.
URL:https://www.solesistersrc.co.uk/event/club-night-baileys-court-2/
LOCATION:Baileys Court\, The Pavillion\, Baileys Ct\, Bradley Stoke\, Bristol\, BS32 8BH\, United Kingdom
ATTACH;FMTTYPE=image/png:https://www.solesistersrc.co.uk/wp-content/uploads/2018/07/chat.png
END:VEVENT
BEGIN:VEVENT
DTSTART;TZID=UTC:20211108T180000
DTEND;TZID=UTC:20211108T203000
DTSTAMP:20260422T211456
CREATED:20210827T083755Z
LAST-MODIFIED:20210827T083755Z
UID:945-1636394400-1636403400@www.solesistersrc.co.uk
SUMMARY:Sole Sisters Club Run - Patchway Sports & Social Club
DESCRIPTION:
URL:https://www.solesistersrc.co.uk/event/sole-sisters-club-run-patchway-sports-social-club-2/
LOCATION:Patchway Sports & Social Club\, Coniston Rd\, Patchway\, Bristol\, BS34 5JR\, United Kingdom
CATEGORIES:Club Night
ATTACH;FMTTYPE=image/png:https://www.solesistersrc.co.uk/wp-content/uploads/2018/07/shoe.png
END:VEVENT
BEGIN:VEVENT
DTSTART;TZID=UTC:20211101T180000
DTEND;TZID=UTC:20211101T203000
DTSTAMP:20260422T211456
CREATED:20210827T083231Z
LAST-MODIFIED:20210827T083231Z
UID:935-1635789600-1635798600@www.solesistersrc.co.uk
SUMMARY:Club Night - Baileys Court
DESCRIPTION:This is for paid up members – please check our closed Facebook group for details on how to sign up.
URL:https://www.solesistersrc.co.uk/event/club-night-baileys-court/
LOCATION:Baileys Court\, The Pavillion\, Baileys Ct\, Bradley Stoke\, Bristol\, BS32 8BH\, United Kingdom
ATTACH;FMTTYPE=image/png:https://www.solesistersrc.co.uk/wp-content/uploads/2018/07/chat.png
END:VEVENT
BEGIN:VEVENT
DTSTART;TZID=UTC:20211018T180000
DTEND;TZID=UTC:20211018T203000
DTSTAMP:20260422T211456
CREATED:20210827T083136Z
LAST-MODIFIED:20210827T083136Z
UID:933-1634580000-1634589000@www.solesistersrc.co.uk
SUMMARY:Club Night - Baileys Court
DESCRIPTION:This is for paid up members – please check our closed Facebook group for details on how to sign up.
URL:https://www.solesistersrc.co.uk/event/club-night-baileys-court-13/
LOCATION:Baileys Court\, The Pavillion\, Baileys Ct\, Bradley Stoke\, Bristol\, BS32 8BH\, United Kingdom
ATTACH;FMTTYPE=image/png:https://www.solesistersrc.co.uk/wp-content/uploads/2018/07/chat.png
END:VEVENT
BEGIN:VEVENT
DTSTART;TZID=UTC:20211011T180000
DTEND;TZID=UTC:20211011T203000
DTSTAMP:20260422T211456
CREATED:20210827T082845Z
LAST-MODIFIED:20210827T082845Z
UID:923-1633975200-1633984200@www.solesistersrc.co.uk
SUMMARY:Sole Sisters Club Run - Filton Community Centre
DESCRIPTION:This is for paid up members – please check our closed Facebook group for details on how to sign up.
URL:https://www.solesistersrc.co.uk/event/sole-sisters-club-run-filton-community-centre-9/
LOCATION:Bradley Stoke Active Centre\, Bradley Stoke Leisure Centre\, Fiddlers Wood Lane\, Bradley Stoke\, Bristol\, BS32 9BS\, United Kingdom
CATEGORIES:Club Night
ATTACH;FMTTYPE=image/png:https://www.solesistersrc.co.uk/wp-content/uploads/2018/07/shoe.png
END:VEVENT
BEGIN:VEVENT
DTSTART;TZID=UTC:20211004T180000
DTEND;TZID=UTC:20211004T203000
DTSTAMP:20260422T211456
CREATED:20210827T083104Z
LAST-MODIFIED:20210827T083104Z
UID:931-1633370400-1633379400@www.solesistersrc.co.uk
SUMMARY:Club Night - Baileys Court
DESCRIPTION:This is for paid up members – please check our closed Facebook group for details on how to sign up.
URL:https://www.solesistersrc.co.uk/event/club-night-baileys-court-12/
LOCATION:Baileys Court\, The Pavillion\, Baileys Ct\, Bradley Stoke\, Bristol\, BS32 8BH\, United Kingdom
ATTACH;FMTTYPE=image/png:https://www.solesistersrc.co.uk/wp-content/uploads/2018/07/chat.png
END:VEVENT
BEGIN:VEVENT
DTSTART;TZID=UTC:20210927T180000
DTEND;TZID=UTC:20210927T203000
DTSTAMP:20260422T211456
CREATED:20210827T083703Z
LAST-MODIFIED:20210827T083703Z
UID:943-1632765600-1632774600@www.solesistersrc.co.uk
SUMMARY:Sole Sisters Club Run - Patchway Sports & Social Club
DESCRIPTION:
URL:https://www.solesistersrc.co.uk/event/sole-sisters-club-run-patchway-sports-social-club/
LOCATION:Patchway Sports & Social Club\, Coniston Rd\, Patchway\, Bristol\, BS34 5JR\, United Kingdom
CATEGORIES:Club Night
ATTACH;FMTTYPE=image/png:https://www.solesistersrc.co.uk/wp-content/uploads/2018/07/shoe.png
END:VEVENT
BEGIN:VEVENT
DTSTART;TZID=UTC:20210920T180000
DTEND;TZID=UTC:20210920T203000
DTSTAMP:20260422T211456
CREATED:20210827T083005Z
LAST-MODIFIED:20210827T083005Z
UID:929-1632160800-1632169800@www.solesistersrc.co.uk
SUMMARY:Club Night - Baileys Court
DESCRIPTION:This is for paid up members – please check our closed Facebook group for details on how to sign up.
URL:https://www.solesistersrc.co.uk/event/club-night-baileys-court-11/
LOCATION:Baileys Court\, The Pavillion\, Baileys Ct\, Bradley Stoke\, Bristol\, BS32 8BH\, United Kingdom
ATTACH;FMTTYPE=image/png:https://www.solesistersrc.co.uk/wp-content/uploads/2018/07/chat.png
END:VEVENT
BEGIN:VEVENT
DTSTART;TZID=UTC:20210913T180000
DTEND;TZID=UTC:20210913T203000
DTSTAMP:20260422T211456
CREATED:20210827T082821Z
LAST-MODIFIED:20210827T082821Z
UID:921-1631556000-1631565000@www.solesistersrc.co.uk
SUMMARY:Sole Sisters Club Run - Filton Community Centre
DESCRIPTION:This is for paid up members – please check our closed Facebook group for details on how to sign up.
URL:https://www.solesistersrc.co.uk/event/sole-sisters-club-run-filton-community-centre-8/
LOCATION:Bradley Stoke Active Centre\, Bradley Stoke Leisure Centre\, Fiddlers Wood Lane\, Bradley Stoke\, Bristol\, BS32 9BS\, United Kingdom
CATEGORIES:Club Night
ATTACH;FMTTYPE=image/png:https://www.solesistersrc.co.uk/wp-content/uploads/2018/07/shoe.png
END:VEVENT
BEGIN:VEVENT
DTSTART;TZID=UTC:20210906T180000
DTEND;TZID=UTC:20210906T203000
DTSTAMP:20260422T211456
CREATED:20210708T160450Z
LAST-MODIFIED:20210708T160450Z
UID:914-1630951200-1630960200@www.solesistersrc.co.uk
SUMMARY:Club Night - Baileys Court
DESCRIPTION:This is for paid up members – please check our closed Facebook group for details on how to sign up.
URL:https://www.solesistersrc.co.uk/event/club-night-baileys-court-10/
LOCATION:Baileys Court\, The Pavillion\, Baileys Ct\, Bradley Stoke\, Bristol\, BS32 8BH\, United Kingdom
ATTACH;FMTTYPE=image/png:https://www.solesistersrc.co.uk/wp-content/uploads/2018/07/chat.png
END:VEVENT
BEGIN:VEVENT
DTSTART;TZID=UTC:20210901T180000
DTEND;TZID=UTC:20210901T200000
DTSTAMP:20260422T211456
CREATED:20210708T160303Z
LAST-MODIFIED:20210708T160303Z
UID:909-1630519200-1630526400@www.solesistersrc.co.uk
SUMMARY:Sole Sisters Club Run - Greenfield Centre
DESCRIPTION:This run is for paid up members.  Please refer to the Members Only Facebook Group.  If you would like to join us\, please send us an email.
URL:https://www.solesistersrc.co.uk/event/sole-sisters-club-run-greenfield-centre-10/
LOCATION:Greenfield Centre\, Park Avenue\, Winterbourne\, BS36 1NJ\, United Kingdom
CATEGORIES:Club Night
ATTACH;FMTTYPE=image/png:https://www.solesistersrc.co.uk/wp-content/uploads/2018/07/shoe.png
END:VEVENT
BEGIN:VEVENT
DTSTART;TZID=UTC:20210830T180000
DTEND;TZID=UTC:20210830T203000
DTSTAMP:20260422T211456
CREATED:20190722T152510Z
LAST-MODIFIED:20210708T160338Z
UID:686-1630346400-1630355400@www.solesistersrc.co.uk
SUMMARY:Bank Holiday - No Run (see Wednesday)
DESCRIPTION:
URL:https://www.solesistersrc.co.uk/event/bank-holiday-no-run-see-wednesday-2-2-2/
END:VEVENT
BEGIN:VEVENT
DTSTART;TZID=UTC:20210823T180000
DTEND;TZID=UTC:20210823T203000
DTSTAMP:20260422T211456
CREATED:20210708T160419Z
LAST-MODIFIED:20210708T160419Z
UID:912-1629741600-1629750600@www.solesistersrc.co.uk
SUMMARY:Sole Sisters Club Run - Patchway Sports & Social Club
DESCRIPTION:
URL:https://www.solesistersrc.co.uk/event/sole-sisters-club-run-patchway-sports-social-club-7/
LOCATION:Patchway Sports & Social Club\, Coniston Rd\, Patchway\, Bristol\, BS34 5JR\, United Kingdom
CATEGORIES:Club Night
ATTACH;FMTTYPE=image/png:https://www.solesistersrc.co.uk/wp-content/uploads/2018/07/shoe.png
END:VEVENT
BEGIN:VEVENT
DTSTART;TZID=UTC:20210816T180000
DTEND;TZID=UTC:20210816T203000
DTSTAMP:20260422T211456
CREATED:20210708T155945Z
LAST-MODIFIED:20210708T155945Z
UID:904-1629136800-1629145800@www.solesistersrc.co.uk
SUMMARY:Club Night - Baileys Court
DESCRIPTION:This is for paid up members – please check our closed Facebook group for details on how to sign up.
URL:https://www.solesistersrc.co.uk/event/club-night-baileys-court-9/
LOCATION:Baileys Court\, The Pavillion\, Baileys Ct\, Bradley Stoke\, Bristol\, BS32 8BH\, United Kingdom
ATTACH;FMTTYPE=image/png:https://www.solesistersrc.co.uk/wp-content/uploads/2018/07/chat.png
END:VEVENT
BEGIN:VEVENT
DTSTART;TZID=UTC:20210809T180000
DTEND;TZID=UTC:20210809T203000
DTSTAMP:20260422T211456
CREATED:20210708T155814Z
LAST-MODIFIED:20210708T155814Z
UID:898-1628532000-1628541000@www.solesistersrc.co.uk
SUMMARY:Sole Sisters Club Run - Filton Community Centre
DESCRIPTION:This is for paid up members – please check our closed Facebook group for details on how to sign up.
URL:https://www.solesistersrc.co.uk/event/sole-sisters-club-run-filton-community-centre-7/
LOCATION:Bradley Stoke Active Centre\, Bradley Stoke Leisure Centre\, Fiddlers Wood Lane\, Bradley Stoke\, Bristol\, BS32 9BS\, United Kingdom
CATEGORIES:Club Night
ATTACH;FMTTYPE=image/png:https://www.solesistersrc.co.uk/wp-content/uploads/2018/07/shoe.png
END:VEVENT
BEGIN:VEVENT
DTSTART;TZID=UTC:20210802T180000
DTEND;TZID=UTC:20210802T203000
DTSTAMP:20260422T211456
CREATED:20210708T155916Z
LAST-MODIFIED:20210708T155916Z
UID:902-1627927200-1627936200@www.solesistersrc.co.uk
SUMMARY:Club Night - Baileys Court
DESCRIPTION:This is for paid up members – please check our closed Facebook group for details on how to sign up.
URL:https://www.solesistersrc.co.uk/event/club-night-baileys-court-8/
LOCATION:Baileys Court\, The Pavillion\, Baileys Ct\, Bradley Stoke\, Bristol\, BS32 8BH\, United Kingdom
ATTACH;FMTTYPE=image/png:https://www.solesistersrc.co.uk/wp-content/uploads/2018/07/chat.png
END:VEVENT
BEGIN:VEVENT
DTSTART;TZID=UTC:20210726T180000
DTEND;TZID=UTC:20210726T200000
DTSTAMP:20260422T211456
CREATED:20210708T160231Z
LAST-MODIFIED:20210708T160231Z
UID:908-1627322400-1627329600@www.solesistersrc.co.uk
SUMMARY:Sole Sisters Club Run - Greenfield Centre
DESCRIPTION:This run is for paid up members.  Please refer to the Members Only Facebook Group.  If you would like to join us\, please send us an email.
URL:https://www.solesistersrc.co.uk/event/sole-sisters-club-run-greenfield-centre-9/
LOCATION:Greenfield Centre\, Park Avenue\, Winterbourne\, BS36 1NJ\, United Kingdom
CATEGORIES:Club Night
ATTACH;FMTTYPE=image/png:https://www.solesistersrc.co.uk/wp-content/uploads/2018/07/shoe.png
END:VEVENT
END:VCALENDAR