BEGIN:VCALENDAR
VERSION:2.0
PRODID:-//Sole Sisters Running Club - North Bristol - ECPv6.15.20//NONSGML v1.0//EN
CALSCALE:GREGORIAN
METHOD:PUBLISH
X-WR-CALNAME:Sole Sisters Running Club - North Bristol
X-ORIGINAL-URL:https://www.solesistersrc.co.uk
X-WR-CALDESC:Events for Sole Sisters Running Club - North Bristol
REFRESH-INTERVAL;VALUE=DURATION:PT1H
X-Robots-Tag:noindex
X-PUBLISHED-TTL:PT1H
BEGIN:VTIMEZONE
TZID:UTC
BEGIN:STANDARD
TZOFFSETFROM:+0000
TZOFFSETTO:+0000
TZNAME:UTC
DTSTART:20170101T000000
END:STANDARD
END:VTIMEZONE
BEGIN:VEVENT
DTSTART;TZID=UTC:20200511T183000
DTEND;TZID=UTC:20200511T200000
DTSTAMP:20260423T024602
CREATED:20200324T172659Z
LAST-MODIFIED:20200324T172659Z
UID:854-1589221800-1589227200@www.solesistersrc.co.uk
SUMMARY:Sorry\, Club Running Cancelled
DESCRIPTION:
URL:https://www.solesistersrc.co.uk/event/sorry-club-running-cancelled-8/
END:VEVENT
BEGIN:VEVENT
DTSTART;TZID=UTC:20200504T183000
DTEND;TZID=UTC:20200504T200000
DTSTAMP:20260423T024602
CREATED:20200324T172624Z
LAST-MODIFIED:20200324T172624Z
UID:852-1588617000-1588622400@www.solesistersrc.co.uk
SUMMARY:Sorry\, Club Running Cancelled
DESCRIPTION:
URL:https://www.solesistersrc.co.uk/event/sorry-club-running-cancelled-7/
END:VEVENT
BEGIN:VEVENT
DTSTART;TZID=UTC:20200427T183000
DTEND;TZID=UTC:20200427T200000
DTSTAMP:20260423T024602
CREATED:20200323T182517Z
LAST-MODIFIED:20200323T182517Z
UID:850-1588012200-1588017600@www.solesistersrc.co.uk
SUMMARY:Sorry\, Club Running Cancelled
DESCRIPTION:
URL:https://www.solesistersrc.co.uk/event/sorry-club-running-cancelled-6/
END:VEVENT
BEGIN:VEVENT
DTSTART;TZID=UTC:20200420T183000
DTEND;TZID=UTC:20200420T200000
DTSTAMP:20260423T024602
CREATED:20200323T182443Z
LAST-MODIFIED:20200323T182443Z
UID:848-1587407400-1587412800@www.solesistersrc.co.uk
SUMMARY:Sorry\, Club Running Cancelled
DESCRIPTION:
URL:https://www.solesistersrc.co.uk/event/sorry-club-running-cancelled-5/
END:VEVENT
BEGIN:VEVENT
DTSTART;TZID=UTC:20200413T183000
DTEND;TZID=UTC:20200413T200000
DTSTAMP:20260423T024602
CREATED:20200323T182355Z
LAST-MODIFIED:20200323T182355Z
UID:844-1586802600-1586808000@www.solesistersrc.co.uk
SUMMARY:Sorry\, Club Running Cancelled
DESCRIPTION:
URL:https://www.solesistersrc.co.uk/event/sorry-club-running-cancelled-4/
END:VEVENT
BEGIN:VEVENT
DTSTART;TZID=UTC:20200406T183000
DTEND;TZID=UTC:20200406T200000
DTSTAMP:20260423T024602
CREATED:20200323T182334Z
LAST-MODIFIED:20200323T182334Z
UID:845-1586197800-1586203200@www.solesistersrc.co.uk
SUMMARY:Sorry\, Club Running Cancelled
DESCRIPTION:
URL:https://www.solesistersrc.co.uk/event/sorry-club-running-cancelled-3/
END:VEVENT
BEGIN:VEVENT
DTSTART;TZID=UTC:20200330T183000
DTEND;TZID=UTC:20200330T200000
DTSTAMP:20260423T024602
CREATED:20200323T182146Z
LAST-MODIFIED:20200323T182146Z
UID:842-1585593000-1585598400@www.solesistersrc.co.uk
SUMMARY:Sorry\, Club Running Cancelled
DESCRIPTION:
URL:https://www.solesistersrc.co.uk/event/sorry-club-running-cancelled-2/
END:VEVENT
BEGIN:VEVENT
DTSTART;TZID=UTC:20200323T183000
DTEND;TZID=UTC:20200323T200000
DTSTAMP:20260423T024602
CREATED:20200323T182025Z
LAST-MODIFIED:20200323T182025Z
UID:840-1584988200-1584993600@www.solesistersrc.co.uk
SUMMARY:Sorry\, Club Running Cancelled
DESCRIPTION:
URL:https://www.solesistersrc.co.uk/event/sorry-club-running-cancelled/
END:VEVENT
BEGIN:VEVENT
DTSTART;TZID=UTC:20200316T183000
DTEND;TZID=UTC:20200316T203000
DTSTAMP:20260423T024602
CREATED:20200217T171854Z
LAST-MODIFIED:20200217T171854Z
UID:763-1584383400-1584390600@www.solesistersrc.co.uk
SUMMARY:Sole Sisters Club Run & AGM - Patchway Sports & Social Club
DESCRIPTION:Please note that this will also be our AGM – please bring along your membership fees …..
URL:https://www.solesistersrc.co.uk/event/sole-sisters-club-run-agm-patchway-sports-social-club/
LOCATION:Patchway Sports & Social Club\, Coniston Rd\, Patchway\, Bristol\, BS34 5JR\, United Kingdom
CATEGORIES:Club Night
ATTACH;FMTTYPE=image/png:https://www.solesistersrc.co.uk/wp-content/uploads/2018/07/shoe.png
END:VEVENT
BEGIN:VEVENT
DTSTART;TZID=UTC:20200302T183000
DTEND;TZID=UTC:20200302T203000
DTSTAMP:20260423T024602
CREATED:20200217T171302Z
LAST-MODIFIED:20200217T171302Z
UID:760-1583173800-1583181000@www.solesistersrc.co.uk
SUMMARY:Sole Sisters Club Run - Badminton Road Methodist Church
DESCRIPTION:
URL:https://www.solesistersrc.co.uk/event/sole-sisters-club-run-badminton-road-methodist-church/
LOCATION:Badminton Road Methodist Church\, Badminton Road\, Downend\, BS16 6NU\, United Kingdom
CATEGORIES:Club Night
ATTACH;FMTTYPE=image/png:https://www.solesistersrc.co.uk/wp-content/uploads/2018/07/shoe.png
END:VEVENT
BEGIN:VEVENT
DTSTART;TZID=UTC:20200224T183000
DTEND;TZID=UTC:20200224T200000
DTSTAMP:20260423T024602
CREATED:20200217T173905Z
LAST-MODIFIED:20200217T173905Z
UID:809-1582569000-1582574400@www.solesistersrc.co.uk
SUMMARY:Sole Sisters Club Run - Greenfield Centre
DESCRIPTION:
URL:https://www.solesistersrc.co.uk/event/sole-sisters-club-run-greenfield-centre-7/
LOCATION:Greenfield Centre\, Park Avenue\, Winterbourne\, BS36 1NJ\, United Kingdom
CATEGORIES:Club Night
ATTACH;FMTTYPE=image/png:https://www.solesistersrc.co.uk/wp-content/uploads/2018/07/shoe.png
END:VEVENT
BEGIN:VEVENT
DTSTART;TZID=UTC:20200217T183000
DTEND;TZID=UTC:20200217T203000
DTSTAMP:20260423T024602
CREATED:20191209T114608Z
LAST-MODIFIED:20191209T114608Z
UID:753-1581964200-1581971400@www.solesistersrc.co.uk
SUMMARY:Sole Sisters Club Run - Patchway Sports & Social Club
DESCRIPTION:
URL:https://www.solesistersrc.co.uk/event/sole-sisters-club-run-patchway-sports-social-club-6/
LOCATION:Patchway Sports & Social Club\, Coniston Rd\, Patchway\, Bristol\, BS34 5JR\, United Kingdom
CATEGORIES:Club Night
ATTACH;FMTTYPE=image/png:https://www.solesistersrc.co.uk/wp-content/uploads/2018/07/shoe.png
END:VEVENT
BEGIN:VEVENT
DTSTART;TZID=UTC:20200210T183000
DTEND;TZID=UTC:20200210T203000
DTSTAMP:20260423T024602
CREATED:20191209T114527Z
LAST-MODIFIED:20191209T114527Z
UID:751-1581359400-1581366600@www.solesistersrc.co.uk
SUMMARY:Beginners Course - Week 6 (Final!)
DESCRIPTION:
URL:https://www.solesistersrc.co.uk/event/beginners-course-week-6-final/
LOCATION:Baileys Court\, The Pavillion\, Baileys Ct\, Bradley Stoke\, Bristol\, BS32 8BH\, United Kingdom
CATEGORIES:Beginners
ATTACH;FMTTYPE=image/jpeg:https://www.solesistersrc.co.uk/wp-content/uploads/2018/07/beginners_course-1.jpg
END:VEVENT
BEGIN:VEVENT
DTSTART;TZID=UTC:20200203T183000
DTEND;TZID=UTC:20200203T203000
DTSTAMP:20260423T024602
CREATED:20191209T114445Z
LAST-MODIFIED:20191209T114445Z
UID:749-1580754600-1580761800@www.solesistersrc.co.uk
SUMMARY:Beginners Course - Week 5
DESCRIPTION:
URL:https://www.solesistersrc.co.uk/event/beginners-course-week-5-4/
LOCATION:Bradley Stoke Active Centre\, Bradley Stoke Leisure Centre\, Fiddlers Wood Lane\, Bradley Stoke\, Bristol\, BS32 9BS\, United Kingdom
CATEGORIES:Beginners
ATTACH;FMTTYPE=image/jpeg:https://www.solesistersrc.co.uk/wp-content/uploads/2018/07/beginners_course-1.jpg
END:VEVENT
BEGIN:VEVENT
DTSTART;TZID=UTC:20200127T183000
DTEND;TZID=UTC:20200127T203000
DTSTAMP:20260423T024602
CREATED:20191209T114355Z
LAST-MODIFIED:20191209T114355Z
UID:747-1580149800-1580157000@www.solesistersrc.co.uk
SUMMARY:Beginners Course Week 4
DESCRIPTION:
URL:https://www.solesistersrc.co.uk/event/beginners-course-week-4-3/
LOCATION:Baileys Court\, The Pavillion\, Baileys Ct\, Bradley Stoke\, Bristol\, BS32 8BH\, United Kingdom
CATEGORIES:Beginners
ATTACH;FMTTYPE=image/jpeg:https://www.solesistersrc.co.uk/wp-content/uploads/2018/07/beginners_course-1.jpg
END:VEVENT
BEGIN:VEVENT
DTSTART;TZID=UTC:20200120T183000
DTEND;TZID=UTC:20200120T203000
DTSTAMP:20260423T024602
CREATED:20191209T114229Z
LAST-MODIFIED:20191209T114229Z
UID:745-1579545000-1579552200@www.solesistersrc.co.uk
SUMMARY:Beginners Course - Week 3
DESCRIPTION:
URL:https://www.solesistersrc.co.uk/event/beginners-course-week-3-2/
LOCATION:Patchway Sports & Social Club\, Coniston Rd\, Patchway\, Bristol\, BS34 5JR\, United Kingdom
CATEGORIES:Beginners,Run
ATTACH;FMTTYPE=image/jpeg:https://www.solesistersrc.co.uk/wp-content/uploads/2018/07/beginners_course-1.jpg
END:VEVENT
BEGIN:VEVENT
DTSTART;TZID=UTC:20200113T183000
DTEND;TZID=UTC:20200113T203000
DTSTAMP:20260423T024602
CREATED:20191209T114110Z
LAST-MODIFIED:20191209T114110Z
UID:743-1578940200-1578947400@www.solesistersrc.co.uk
SUMMARY:Beginners Course - Week 2
DESCRIPTION:Existing members of Sole Sisters should arrive from 6.30 pm to register.  Beginners should arrive from 6.45 pm.
URL:https://www.solesistersrc.co.uk/event/beginners-course-week-2-2/
LOCATION:Badminton Road Methodist Church\, Badminton Road\, Downend\, BS16 6NU\, United Kingdom
CATEGORIES:Beginners,Run
ATTACH;FMTTYPE=image/jpeg:https://www.solesistersrc.co.uk/wp-content/uploads/2018/07/beginners_course-1.jpg
END:VEVENT
BEGIN:VEVENT
DTSTART;TZID=UTC:20200106T183000
DTEND;TZID=UTC:20200106T203000
DTSTAMP:20260423T024602
CREATED:20191209T113914Z
LAST-MODIFIED:20191209T113914Z
UID:741-1578335400-1578342600@www.solesistersrc.co.uk
SUMMARY:Beginners Course Week 1
DESCRIPTION:Members of Sole Sisters should arrive for registration at 6.30 pm.   Beginners should arrive from 6.45 to 7.00 pm for registration.
URL:https://www.solesistersrc.co.uk/event/beginners-course-week-1-3/
LOCATION:Baileys Court\, The Pavillion\, Baileys Ct\, Bradley Stoke\, Bristol\, BS32 8BH\, United Kingdom
CATEGORIES:Beginners
ATTACH;FMTTYPE=image/jpeg:https://www.solesistersrc.co.uk/wp-content/uploads/2018/07/beginners_course-1.jpg
END:VEVENT
BEGIN:VEVENT
DTSTART;TZID=UTC:20191230T183000
DTEND;TZID=UTC:20191230T203000
DTSTAMP:20260423T024602
CREATED:20190929T160647Z
LAST-MODIFIED:20190929T160647Z
UID:732-1577730600-1577737800@www.solesistersrc.co.uk
SUMMARY:Sole Sisters Club Run - Greenfield Centre
DESCRIPTION:
URL:https://www.solesistersrc.co.uk/event/sole-sisters-club-run-greenfield-centre-6/
LOCATION:Badminton Road Methodist Church\, Badminton Road\, Downend\, BS16 6NU\, United Kingdom
CATEGORIES:Club Night
ATTACH;FMTTYPE=image/png:https://www.solesistersrc.co.uk/wp-content/uploads/2018/07/shoe.png
END:VEVENT
BEGIN:VEVENT
DTSTART;TZID=UTC:20190320T190000
DTEND;TZID=UTC:20190320T213000
DTSTAMP:20260423T024602
CREATED:20190312T172814Z
LAST-MODIFIED:20190312T172814Z
UID:629-1553108400-1553117400@www.solesistersrc.co.uk
SUMMARY:Sole Sisters AGM
DESCRIPTION:Our AGM night is on Wednesday 20th March from 7pm to 9:30pm. \nVenue is Bradley Stoke Community School\, Dining Hall. \nBradley Stoke Community School\nFiddlers Wood Lane\nBradley Stoke\nSouth Gloucestershire\nBS32 9BS \nUp and Running will be attending  who are great  if you need to purchase any running shoes\, clothing\, accessories or just need advice.  A lady from Brooks will also be coming along with her sports bras and she is always happy to give advice and bra fitting. \nThe Physio Clinic are booked to give a brief talk on running and strengthening our muscles and we will have a Flamingo Card stand and a bottle bag luck dip.
URL:https://www.solesistersrc.co.uk/event/sole-sisters-agm/
LOCATION:Bradley Stoke Community School\, BS32 9BS  
ATTACH;FMTTYPE=image/jpeg:https://www.solesistersrc.co.uk/wp-content/uploads/2018/09/membership_run.jpg
END:VEVENT
BEGIN:VEVENT
DTSTART;TZID=UTC:20190318T183000
DTEND;TZID=UTC:20190318T203000
DTSTAMP:20260423T024602
CREATED:20190220T163322Z
LAST-MODIFIED:20190220T163322Z
UID:585-1552933800-1552941000@www.solesistersrc.co.uk
SUMMARY:Sole Sisters Club Run - Filton Community Centre
DESCRIPTION:
URL:https://www.solesistersrc.co.uk/event/club-night-filton-community-centre-2/
LOCATION:Bradley Stoke Active Centre\, Bradley Stoke Leisure Centre\, Fiddlers Wood Lane\, Bradley Stoke\, Bristol\, BS32 9BS\, United Kingdom
CATEGORIES:Club Night
ATTACH;FMTTYPE=image/png:https://www.solesistersrc.co.uk/wp-content/uploads/2018/07/shoe.png
END:VEVENT
BEGIN:VEVENT
DTSTART;TZID=UTC:20190311T183000
DTEND;TZID=UTC:20190311T203000
DTSTAMP:20260423T024602
CREATED:20190220T163209Z
LAST-MODIFIED:20190220T163209Z
UID:582-1552329000-1552336200@www.solesistersrc.co.uk
SUMMARY:Sole Sisters Club Run - Bailey's Court
DESCRIPTION:
URL:https://www.solesistersrc.co.uk/event/sole-sisters-club-run-baileys-court/
CATEGORIES:Club Night
ATTACH;FMTTYPE=image/png:https://www.solesistersrc.co.uk/wp-content/uploads/2018/07/shoe.png
END:VEVENT
BEGIN:VEVENT
DTSTART;TZID=UTC:20190304T183000
DTEND;TZID=UTC:20190304T203000
DTSTAMP:20260423T024602
CREATED:20190220T163014Z
LAST-MODIFIED:20190220T163247Z
UID:580-1551724200-1551731400@www.solesistersrc.co.uk
SUMMARY:Sole Sisters Club Run - Filton Community Centre
DESCRIPTION:
URL:https://www.solesistersrc.co.uk/event/club-night-filton-community-centre/
LOCATION:Bradley Stoke Active Centre\, Bradley Stoke Leisure Centre\, Fiddlers Wood Lane\, Bradley Stoke\, Bristol\, BS32 9BS\, United Kingdom
CATEGORIES:Club Night
ATTACH;FMTTYPE=image/png:https://www.solesistersrc.co.uk/wp-content/uploads/2018/07/shoe.png
END:VEVENT
BEGIN:VEVENT
DTSTART;TZID=UTC:20190225T183000
DTEND;TZID=UTC:20190225T183000
DTSTAMP:20260423T024602
CREATED:20190201T133032Z
LAST-MODIFIED:20190201T133032Z
UID:505-1551119400-1551119400@www.solesistersrc.co.uk
SUMMARY:Sole Sisters Club Night
DESCRIPTION:
URL:https://www.solesistersrc.co.uk/event/sole-sisters-club-night-2-2-2/
LOCATION:Patchway Sports & Social Club\, Coniston Rd\, Patchway\, Bristol\, BS34 5JR\, United Kingdom
CATEGORIES:Club Night,Run
ATTACH;FMTTYPE=image/png:https://www.solesistersrc.co.uk/wp-content/uploads/2018/07/shoe.png
END:VEVENT
BEGIN:VEVENT
DTSTART;TZID=UTC:20190218T183000
DTEND;TZID=UTC:20190218T183000
DTSTAMP:20260423T024602
CREATED:20190201T132757Z
LAST-MODIFIED:20190201T132757Z
UID:503-1550514600-1550514600@www.solesistersrc.co.uk
SUMMARY:Beginners Course - Week 6
DESCRIPTION:
URL:https://www.solesistersrc.co.uk/event/beginners-course-week-5-2-2/
LOCATION:Baileys Court\, The Pavillion\, Baileys Ct\, Bradley Stoke\, Bristol\, BS32 8BH\, United Kingdom
CATEGORIES:Beginners,Run
ATTACH;FMTTYPE=image/jpeg:https://www.solesistersrc.co.uk/wp-content/uploads/2018/07/beginners_course-1.jpg
END:VEVENT
BEGIN:VEVENT
DTSTART;TZID=UTC:20190211T183000
DTEND;TZID=UTC:20190211T203000
DTSTAMP:20260423T024602
CREATED:20190201T132724Z
LAST-MODIFIED:20190201T132724Z
UID:501-1549909800-1549917000@www.solesistersrc.co.uk
SUMMARY:Beginners Course - Week 5
DESCRIPTION:
URL:https://www.solesistersrc.co.uk/event/beginners-course-week-5-3/
LOCATION:Bradley Stoke Active Centre\, Bradley Stoke Leisure Centre\, Fiddlers Wood Lane\, Bradley Stoke\, Bristol\, BS32 9BS\, United Kingdom
CATEGORIES:Beginners,Run
ATTACH;FMTTYPE=image/jpeg:https://www.solesistersrc.co.uk/wp-content/uploads/2018/07/beginners_course-1.jpg
END:VEVENT
BEGIN:VEVENT
DTSTART;TZID=UTC:20190204T183000
DTEND;TZID=UTC:20190204T203000
DTSTAMP:20260423T024602
CREATED:20190201T132641Z
LAST-MODIFIED:20190201T132641Z
UID:499-1549305000-1549312200@www.solesistersrc.co.uk
SUMMARY:Beginners Course - Week 4
DESCRIPTION:
URL:https://www.solesistersrc.co.uk/event/beginners-course-week-4-2/
LOCATION:Baileys Court\, The Pavillion\, Baileys Ct\, Bradley Stoke\, Bristol\, BS32 8BH\, United Kingdom
CATEGORIES:Beginners,Run
ATTACH;FMTTYPE=image/jpeg:https://www.solesistersrc.co.uk/wp-content/uploads/2018/07/beginners_course-1.jpg
END:VEVENT
BEGIN:VEVENT
DTSTART;TZID=UTC:20181112T183000
DTEND;TZID=UTC:20181112T203000
DTSTAMP:20260423T024602
CREATED:20181012T121505Z
LAST-MODIFIED:20181012T121505Z
UID:491-1542047400-1542054600@www.solesistersrc.co.uk
SUMMARY:Sole Sisters Club Night
DESCRIPTION:
URL:https://www.solesistersrc.co.uk/event/sole-sisters-club-night-2-2/
LOCATION:Bradley Stoke Active Centre\, Bradley Stoke Leisure Centre\, Fiddlers Wood Lane\, Bradley Stoke\, Bristol\, BS32 9BS\, United Kingdom
CATEGORIES:Club Night,Run
ATTACH;FMTTYPE=image/png:https://www.solesistersrc.co.uk/wp-content/uploads/2018/07/shoe.png
END:VEVENT
BEGIN:VEVENT
DTSTART;TZID=UTC:20181105T183000
DTEND;TZID=UTC:20181105T203000
DTSTAMP:20260423T024602
CREATED:20180923T083321Z
LAST-MODIFIED:20181012T121402Z
UID:437-1541442600-1541449800@www.solesistersrc.co.uk
SUMMARY:Sole Sisters Club Night
DESCRIPTION:
URL:https://www.solesistersrc.co.uk/event/sole-sisters-club-night-2/
LOCATION:Bradley Stoke Active Centre\, Bradley Stoke Leisure Centre\, Fiddlers Wood Lane\, Bradley Stoke\, Bristol\, BS32 9BS\, United Kingdom
CATEGORIES:Club Night,Run
ATTACH;FMTTYPE=image/png:https://www.solesistersrc.co.uk/wp-content/uploads/2018/07/shoe.png
END:VEVENT
BEGIN:VEVENT
DTSTART;TZID=UTC:20181029T183000
DTEND;TZID=UTC:20181029T203000
DTSTAMP:20260423T024602
CREATED:20180923T083154Z
LAST-MODIFIED:20181012T114518Z
UID:435-1540837800-1540845000@www.solesistersrc.co.uk
SUMMARY:Sole Sisters Club Night
DESCRIPTION:
URL:https://www.solesistersrc.co.uk/event/sole-sisters-club-night/
LOCATION:Baileys Court\, The Pavillion\, Baileys Ct\, Bradley Stoke\, Bristol\, BS32 8BH\, United Kingdom
CATEGORIES:Run
ATTACH;FMTTYPE=image/png:https://www.solesistersrc.co.uk/wp-content/uploads/2018/07/shoe.png
END:VEVENT
END:VCALENDAR