BEGIN:VCALENDAR
VERSION:2.0
PRODID:-//Sole Sisters Running Club - North Bristol - ECPv6.15.20//NONSGML v1.0//EN
CALSCALE:GREGORIAN
METHOD:PUBLISH
X-WR-CALNAME:Sole Sisters Running Club - North Bristol
X-ORIGINAL-URL:https://www.solesistersrc.co.uk
X-WR-CALDESC:Events for Sole Sisters Running Club - North Bristol
REFRESH-INTERVAL;VALUE=DURATION:PT1H
X-Robots-Tag:noindex
X-PUBLISHED-TTL:PT1H
BEGIN:VTIMEZONE
TZID:UTC
BEGIN:STANDARD
TZOFFSETFROM:+0000
TZOFFSETTO:+0000
TZNAME:UTC
DTSTART:20170101T000000
END:STANDARD
END:VTIMEZONE
BEGIN:VEVENT
DTSTART;TZID=UTC:20181022T183000
DTEND;TZID=UTC:20181022T203000
DTSTAMP:20260423T072203
CREATED:20180923T082950Z
LAST-MODIFIED:20181012T121306Z
UID:432-1540233000-1540240200@www.solesistersrc.co.uk
SUMMARY:Club Run
DESCRIPTION:
URL:https://www.solesistersrc.co.uk/event/club-run/
LOCATION:Lincombe Barn\, Overndale Road\, Downend\, BS16 2RW\, United Kingdom
CATEGORIES:Run
ATTACH;FMTTYPE=image/png:https://www.solesistersrc.co.uk/wp-content/uploads/2018/07/shoe.png
END:VEVENT
BEGIN:VEVENT
DTSTART;TZID=UTC:20181015T183000
DTEND;TZID=UTC:20181015T203000
DTSTAMP:20260423T072203
CREATED:20181012T115617Z
LAST-MODIFIED:20181012T115617Z
UID:489-1539628200-1539635400@www.solesistersrc.co.uk
SUMMARY:Beginners Course - Week 6
DESCRIPTION:
URL:https://www.solesistersrc.co.uk/event/beginners-course-week-5-2/
LOCATION:Baileys Court\, The Pavillion\, Baileys Ct\, Bradley Stoke\, Bristol\, BS32 8BH\, United Kingdom
CATEGORIES:Beginners,Run
ATTACH;FMTTYPE=image/jpeg:https://www.solesistersrc.co.uk/wp-content/uploads/2018/07/beginners_course-1.jpg
END:VEVENT
BEGIN:VEVENT
DTSTART;TZID=UTC:20181008T183000
DTEND;TZID=UTC:20181008T203000
DTSTAMP:20260423T072203
CREATED:20180923T082616Z
LAST-MODIFIED:20180923T082650Z
UID:427-1539023400-1539030600@www.solesistersrc.co.uk
SUMMARY:Beginners Course - Week 5
DESCRIPTION:
URL:https://www.solesistersrc.co.uk/event/beginners-course-week-5/
LOCATION:Bradley Stoke Active Centre\, Bradley Stoke Leisure Centre\, Fiddlers Wood Lane\, Bradley Stoke\, Bristol\, BS32 9BS\, United Kingdom
CATEGORIES:Beginners,Run
ATTACH;FMTTYPE=image/jpeg:https://www.solesistersrc.co.uk/wp-content/uploads/2018/07/beginners_course-1.jpg
END:VEVENT
BEGIN:VEVENT
DTSTART;TZID=UTC:20181001T183000
DTEND;TZID=UTC:20181001T203000
DTSTAMP:20260423T072203
CREATED:20180923T082459Z
LAST-MODIFIED:20180923T082650Z
UID:425-1538418600-1538425800@www.solesistersrc.co.uk
SUMMARY:Beginners Course - Week 4
DESCRIPTION:
URL:https://www.solesistersrc.co.uk/event/beginners-course-week-4/
LOCATION:Baileys Court\, The Pavillion\, Baileys Ct\, Bradley Stoke\, Bristol\, BS32 8BH\, United Kingdom
CATEGORIES:Beginners,Run
ATTACH;FMTTYPE=image/jpeg:https://www.solesistersrc.co.uk/wp-content/uploads/2018/07/beginners_course-1.jpg
END:VEVENT
BEGIN:VEVENT
DTSTART;TZID=UTC:20180924T183000
DTEND;TZID=UTC:20180924T203000
DTSTAMP:20260423T072203
CREATED:20180923T082312Z
LAST-MODIFIED:20180923T082650Z
UID:422-1537813800-1537821000@www.solesistersrc.co.uk
SUMMARY:Beginners Course - Week 3
DESCRIPTION:
URL:https://www.solesistersrc.co.uk/event/beginners-course-week-3/
LOCATION:Badminton Road Methodist Church\, Badminton Road\, Downend\, BS16 6NU\, United Kingdom
CATEGORIES:Beginners,Run
ATTACH;FMTTYPE=image/jpeg:https://www.solesistersrc.co.uk/wp-content/uploads/2018/07/beginners_course-1.jpg
END:VEVENT
BEGIN:VEVENT
DTSTART;TZID=UTC:20180917T183000
DTEND;TZID=UTC:20180917T203000
DTSTAMP:20260423T072203
CREATED:20180923T082831Z
LAST-MODIFIED:20180923T082831Z
UID:429-1537209000-1537216200@www.solesistersrc.co.uk
SUMMARY:Beginners Course - Week 2
DESCRIPTION:
URL:https://www.solesistersrc.co.uk/event/beginners-course-week-2/
LOCATION:Lincombe Barn\, Overndale Road\, Downend\, BS16 2RW\, United Kingdom
CATEGORIES:Beginners,Run
ATTACH;FMTTYPE=image/jpeg:https://www.solesistersrc.co.uk/wp-content/uploads/2018/07/beginners_course-1.jpg
END:VEVENT
BEGIN:VEVENT
DTSTART;TZID=UTC:20180910T183000
DTEND;TZID=UTC:20180910T203000
DTSTAMP:20260423T072203
CREATED:20180720T123430Z
LAST-MODIFIED:20180720T162943Z
UID:270-1536604200-1536611400@www.solesistersrc.co.uk
SUMMARY:Beginners Course Week 1
DESCRIPTION:
URL:https://www.solesistersrc.co.uk/event/beginners-course-week-1/
LOCATION:Baileys Court\, The Pavillion\, Baileys Ct\, Bradley Stoke\, Bristol\, BS32 8BH\, United Kingdom
CATEGORIES:Beginners
ATTACH;FMTTYPE=image/jpeg:https://www.solesistersrc.co.uk/wp-content/uploads/2018/07/beginners_course-1.jpg
END:VEVENT
BEGIN:VEVENT
DTSTART;TZID=UTC:20180723T183000
DTEND;TZID=UTC:20180723T203000
DTSTAMP:20260423T072203
CREATED:20180715T083358Z
LAST-MODIFIED:20180715T083358Z
UID:232-1532370600-1532377800@www.solesistersrc.co.uk
SUMMARY:Club Night
DESCRIPTION:
URL:https://www.solesistersrc.co.uk/event/club-night/
LOCATION:Bradley Stoke Active Centre\, Bradley Stoke Leisure Centre\, Fiddlers Wood Lane\, Bradley Stoke\, Bristol\, BS32 9BS\, United Kingdom
ATTACH;FMTTYPE=image/png:https://www.solesistersrc.co.uk/wp-content/uploads/2018/07/chat.png
END:VEVENT
BEGIN:VEVENT
DTSTART;TZID=UTC:20180716T183000
DTEND;TZID=UTC:20180716T203000
DTSTAMP:20260423T072203
CREATED:20180715T082258Z
LAST-MODIFIED:20180715T084931Z
UID:229-1531765800-1531773000@www.solesistersrc.co.uk
SUMMARY:Sole Sisters Run - Hambrook
DESCRIPTION:Come along for a Monday evening run starting from Hambrook Sports Club. \n\nThe Sports Club is ideally situated just north of Bristol and has ample car parking for all guests.
URL:https://www.solesistersrc.co.uk/event/sole-sisters-run-hambrook/
LOCATION:Hambrook Sports Club\, The Pavilion Moorend Road Hambrook\, Bristol\, Gloucestershire\, BS16 1SJ\, United Kingdom
ATTACH;FMTTYPE=image/png:https://www.solesistersrc.co.uk/wp-content/uploads/2018/07/shoe.png
END:VEVENT
END:VCALENDAR